BEGIN:VCALENDAR
VERSION:2.0
PRODID:-//VeBiS - ECPv6.15.14//NONSGML v1.0//EN
CALSCALE:GREGORIAN
METHOD:PUBLISH
X-WR-CALNAME:VeBiS
X-ORIGINAL-URL:https://vebis.ch
X-WR-CALDESC:Veranstaltungen für VeBiS
REFRESH-INTERVAL;VALUE=DURATION:PT1H
X-Robots-Tag:noindex
X-PUBLISHED-TTL:PT1H
BEGIN:VTIMEZONE
TZID:Europe/Zurich
BEGIN:DAYLIGHT
TZOFFSETFROM:+0100
TZOFFSETTO:+0200
TZNAME:CEST
DTSTART:20250330T010000
END:DAYLIGHT
BEGIN:STANDARD
TZOFFSETFROM:+0200
TZOFFSETTO:+0100
TZNAME:CET
DTSTART:20251026T010000
END:STANDARD
BEGIN:DAYLIGHT
TZOFFSETFROM:+0100
TZOFFSETTO:+0200
TZNAME:CEST
DTSTART:20260329T010000
END:DAYLIGHT
BEGIN:STANDARD
TZOFFSETFROM:+0200
TZOFFSETTO:+0100
TZNAME:CET
DTSTART:20261025T010000
END:STANDARD
BEGIN:DAYLIGHT
TZOFFSETFROM:+0100
TZOFFSETTO:+0200
TZNAME:CEST
DTSTART:20270328T010000
END:DAYLIGHT
BEGIN:STANDARD
TZOFFSETFROM:+0200
TZOFFSETTO:+0100
TZNAME:CET
DTSTART:20271031T010000
END:STANDARD
END:VTIMEZONE
BEGIN:VEVENT
DTSTART;VALUE=DATE:20260423
DTEND;VALUE=DATE:20260424
DTSTAMP:20260420T054100
CREATED:20260324T112354Z
LAST-MODIFIED:20260324T112441Z
UID:5502-1776902400-1776988799@vebis.ch
SUMMARY:Biotalks
DESCRIPTION:(More details like time and place will follow)
URL:https://vebis.ch/event/biotalks-2/
CATEGORIES:Event
END:VEVENT
BEGIN:VEVENT
DTSTART;VALUE=DATE:20260425
DTEND;VALUE=DATE:20260427
DTSTAMP:20260420T054100
CREATED:20260324T112641Z
LAST-MODIFIED:20260324T112825Z
UID:5504-1777075200-1777247999@vebis.ch
SUMMARY:Night at the Dinomuseum
DESCRIPTION:(More details like time and place will follow)
URL:https://vebis.ch/event/night-at-the-dinomuseum/
CATEGORIES:Event
END:VEVENT
BEGIN:VEVENT
DTSTART;VALUE=DATE:20260429
DTEND;VALUE=DATE:20260430
DTSTAMP:20260420T054100
CREATED:20260324T113247Z
LAST-MODIFIED:20260324T113247Z
UID:5506-1777420800-1777507199@vebis.ch
SUMMARY:Game Night with BiUZ
DESCRIPTION:(More details like time and place will follow)
URL:https://vebis.ch/event/game-night-with-biuz/
CATEGORIES:Event
END:VEVENT
BEGIN:VEVENT
DTSTART;TZID=Europe/Zurich:20260508T190000
DTEND;TZID=Europe/Zurich:20260508T220000
DTSTAMP:20260420T054100
CREATED:20260419T181549Z
LAST-MODIFIED:20260419T181628Z
UID:5580-1778266800-1778277600@vebis.ch
SUMMARY:Rscape Room Night
DESCRIPTION:VeBiS x BioAlumni is hosting the ultimate Escape Room Night ! No lectures\, no notes\, now it’s time to solve a mystery. Gather your smartest friends (or the ones who are just good at finding stuff) and see if you can beat the clock before the door stays locked. Escape the library and join us on the 8th of May for an exciting night of problem solving with a pre-escape Apéro included! \n  \n🕒 When: 8th May | from 19:00 \n📍 Where: ROOM Escape Room\, Hohlstrasse 465\, 8048 Zurich \n💰Price: 15.- \n📋Registration: https://forms.gle/tv95hgNrpJZvLyuJ8 \n  \nThe puzzles are infinite\, but the spots aren’t\, so grab yours before “This form no longer takes responses” becomes the first riddle you can’t solve. \nRegister with the link above! \n============================= \n  \nVeBiS x BioAlumni veranstalten die ultimative Escape Room Night! Keine Vorlesungen\, keine Notizen – jetzt gilt es\, ein Rätsel zu lösen. \nTrommle deine klügsten Freunde zusammen (oder diejenigen\, die einfach gut darin sind\, Dinge zu finden) und schau\, ob ihr es schafft\, die Zeit zu schlagen\, bevor die Tür verschlossen bleibt. \nEntfliehe der Bibliothek und sei am 8. Mai dabei – es erwartet dich ein spannender Abend voller Rätsel\, inklusive Apéro vor dem Escape-Room! \n  \n💰 Wann: 8. Mai | ab 19:00 Uhr \n📍 Wo: ROOM Escape Room\, Hohlstrasse 465\, 8048 Zürich \n💰 Preis: 15.- \n📋 Anmeldung: https://forms.gle/tv95hgNrpJZvLyuJ8 \n  \nDie Rätsel sind unendlich\, die Plätze jedoch nicht. Sichern Sie sich also Ihren Platz\, bevor „This form no longer takes responses“ zum ersten Rätsel wird\, das Sie nicht lösen können. \nMelden Sie sich über den obigen Link an! \n  \nÜbersetzt mit DeepL.com (kostenlose Version)
URL:https://vebis.ch/event/rscape-room-night/
LOCATION:ROOM Escape Room\, Hohlstrasse 465\, 8048 Zurich\, Switzerland
CATEGORIES:Event
END:VEVENT
END:VCALENDAR