BEGIN:VCALENDAR
VERSION:2.0
PRODID:-//VeBiS - ECPv6.15.14//NONSGML v1.0//EN
CALSCALE:GREGORIAN
METHOD:PUBLISH
X-WR-CALNAME:VeBiS
X-ORIGINAL-URL:https://vebis.ch
X-WR-CALDESC:Veranstaltungen für VeBiS
REFRESH-INTERVAL;VALUE=DURATION:PT1H
X-Robots-Tag:noindex
X-PUBLISHED-TTL:PT1H
BEGIN:VTIMEZONE
TZID:Europe/Zurich
BEGIN:DAYLIGHT
TZOFFSETFROM:+0100
TZOFFSETTO:+0200
TZNAME:CEST
DTSTART:20220327T010000
END:DAYLIGHT
BEGIN:STANDARD
TZOFFSETFROM:+0200
TZOFFSETTO:+0100
TZNAME:CET
DTSTART:20221030T010000
END:STANDARD
BEGIN:DAYLIGHT
TZOFFSETFROM:+0100
TZOFFSETTO:+0200
TZNAME:CEST
DTSTART:20230326T010000
END:DAYLIGHT
BEGIN:STANDARD
TZOFFSETFROM:+0200
TZOFFSETTO:+0100
TZNAME:CET
DTSTART:20231029T010000
END:STANDARD
BEGIN:DAYLIGHT
TZOFFSETFROM:+0100
TZOFFSETTO:+0200
TZNAME:CEST
DTSTART:20240331T010000
END:DAYLIGHT
BEGIN:STANDARD
TZOFFSETFROM:+0200
TZOFFSETTO:+0100
TZNAME:CET
DTSTART:20241027T010000
END:STANDARD
END:VTIMEZONE
BEGIN:VEVENT
DTSTART;TZID=Europe/Zurich:20231016T180000
DTEND;TZID=Europe/Zurich:20231016T220000
DTSTAMP:20260423T232420
CREATED:20230924T130704Z
LAST-MODIFIED:20231005T180741Z
UID:3662-1697479200-1697493600@vebis.ch
SUMMARY:PhD Project Presentations
DESCRIPTION:We’re excited to invite you to our upcoming PhD Project Presentations event. The topics are:\n-Functional Precision Medicine in Colorectal Cancer\n\n \n\n-Engineering Synthetic Methanol Metabolism in E. coli\n\n \n\n-Dimerization of a 5 kDa domain defines the architecture of the 5 MDa E. coli pyruvate dehydrogenase complex\n\n \n\nJoin us for an evening of insightful talks as our talented PhD candidates share their research projects. It’s a great opportunity to learn about their work and engage in meaningful conversations during the apero afterwards. Sign up here: https://forms.gle/VZD2Yhp2PTjr3Jnf7\n\n \n\nWe look forward to seeing you on the 16th of October at 1800 in HCI D2
URL:https://vebis.ch/event/phd-project-presentations/
LOCATION:Hönggerberg
CATEGORIES:Event
END:VEVENT
END:VCALENDAR