BEGIN:VCALENDAR
VERSION:2.0
PRODID:-//VeBiS - ECPv6.15.14//NONSGML v1.0//EN
CALSCALE:GREGORIAN
METHOD:PUBLISH
X-WR-CALNAME:VeBiS
X-ORIGINAL-URL:https://vebis.ch
X-WR-CALDESC:Veranstaltungen für VeBiS
REFRESH-INTERVAL;VALUE=DURATION:PT1H
X-Robots-Tag:noindex
X-PUBLISHED-TTL:PT1H
BEGIN:VTIMEZONE
TZID:Europe/Zurich
BEGIN:DAYLIGHT
TZOFFSETFROM:+0100
TZOFFSETTO:+0200
TZNAME:CEST
DTSTART:20220327T010000
END:DAYLIGHT
BEGIN:STANDARD
TZOFFSETFROM:+0200
TZOFFSETTO:+0100
TZNAME:CET
DTSTART:20221030T010000
END:STANDARD
BEGIN:DAYLIGHT
TZOFFSETFROM:+0100
TZOFFSETTO:+0200
TZNAME:CEST
DTSTART:20230326T010000
END:DAYLIGHT
BEGIN:STANDARD
TZOFFSETFROM:+0200
TZOFFSETTO:+0100
TZNAME:CET
DTSTART:20231029T010000
END:STANDARD
BEGIN:DAYLIGHT
TZOFFSETFROM:+0100
TZOFFSETTO:+0200
TZNAME:CEST
DTSTART:20240331T010000
END:DAYLIGHT
BEGIN:STANDARD
TZOFFSETFROM:+0200
TZOFFSETTO:+0100
TZNAME:CET
DTSTART:20241027T010000
END:STANDARD
END:VTIMEZONE
BEGIN:VEVENT
DTSTART;TZID=Europe/Zurich:20231020T210000
DTEND;TZID=Europe/Zurich:20231020T235900
DTSTAMP:20260423T232435
CREATED:20230924T130821Z
LAST-MODIFIED:20231012T174601Z
UID:3664-1697835600-1697846340@vebis.ch
SUMMARY:Halloween Party
DESCRIPTION:Spooky season is slowly creeping closer!!🎃 👻 We will revive the great hit of the last year just like the undead 🧟‍♀ and want to invite all of you to “the Grave Rave 2.0”. You can’t miss the coolest halloween party of the year! It will take place on Friday the 20th of October\, the doors will open at 9pm at Campus Zentrum (CAB) get crazy and creative with your costume.☠🧙🏼‍♂🧛🏻‍♂🎃 If you’d like to enjoy the party for free and get two free drinks\, sign up here in one of our helper shifts: https://docs.google.com/spreadsheets/d/1C26Y8-kM7q1DT5kjLdufkFIB69Si7amy/edit#gid=550141904 If instead you just want to enjoy the party you can buy a ticket here: https://eventfrog.ch/de/p/party/halloween/the-grave-rave-7115413352201826346.html Hurry up\, don’t miss your chance!🤗👻
URL:https://vebis.ch/event/halloween-party/
CATEGORIES:Event
END:VEVENT
END:VCALENDAR