BEGIN:VCALENDAR
VERSION:2.0
PRODID:-//VeBiS - ECPv6.15.14//NONSGML v1.0//EN
CALSCALE:GREGORIAN
METHOD:PUBLISH
X-WR-CALNAME:VeBiS
X-ORIGINAL-URL:https://vebis.ch
X-WR-CALDESC:Veranstaltungen für VeBiS
REFRESH-INTERVAL;VALUE=DURATION:PT1H
X-Robots-Tag:noindex
X-PUBLISHED-TTL:PT1H
BEGIN:VTIMEZONE
TZID:Europe/Zurich
BEGIN:DAYLIGHT
TZOFFSETFROM:+0100
TZOFFSETTO:+0200
TZNAME:CEST
DTSTART:20220327T010000
END:DAYLIGHT
BEGIN:STANDARD
TZOFFSETFROM:+0200
TZOFFSETTO:+0100
TZNAME:CET
DTSTART:20221030T010000
END:STANDARD
BEGIN:DAYLIGHT
TZOFFSETFROM:+0100
TZOFFSETTO:+0200
TZNAME:CEST
DTSTART:20230326T010000
END:DAYLIGHT
BEGIN:STANDARD
TZOFFSETFROM:+0200
TZOFFSETTO:+0100
TZNAME:CET
DTSTART:20231029T010000
END:STANDARD
BEGIN:DAYLIGHT
TZOFFSETFROM:+0100
TZOFFSETTO:+0200
TZNAME:CEST
DTSTART:20240331T010000
END:DAYLIGHT
BEGIN:STANDARD
TZOFFSETFROM:+0200
TZOFFSETTO:+0100
TZNAME:CET
DTSTART:20241027T010000
END:STANDARD
END:VTIMEZONE
BEGIN:VEVENT
DTSTART;TZID=Europe/Zurich:20231111T110000
DTEND;TZID=Europe/Zurich:20231111T170000
DTSTAMP:20260423T220856
CREATED:20231110T084329Z
LAST-MODIFIED:20231110T084329Z
UID:3869-1699700400-1699722000@vebis.ch
SUMMARY:Völkerballtournier x HeaT
DESCRIPTION:Stellt euch vor\, ihr seid 12 Jahre alt\, auf dem Weg zur Turnhalle und euch erwartet eine Stunde Völkerball. Was gibt’s Besseres?\nGenau\, einen ganzen Tag Völkerball!!!\nWir freuen uns\, euch herzlich zu unserem Völkerballturnier einzuladen\, das ein Tag voller Action\, Teamarbeit und sportlichem Ehrgeiz verspricht. Nehmt eure Freunde und meldet euch als Team an. \nDatum und Uhrzeit: Samstag\, 11. November 2023\, ab 11:00 Uhr \nVeranstaltungsort: ASVZ am Campus Hönggerberg \nAnmeldung: Ihr könnt euch ab sofort über folgenden Link anmelden:\nhttps://forms.gle/xCdD1BXHyMSHRdPs8 \nTeambildung: Ihr benötigt ein Team von mindestens 6 bis maximal 8 Personen (mind. 2 Frauen)\, um am Turnier teilzunehmen. Überlegt euch einen kreativen Gruppennamen und bestimmt eure/n Gruppenleiter/in. Die Gruppenleitung ist dafür verantwortlich\, alle wichtigen Informationen an das Team weiterzugeben. \nTeilnehmeranzahl: Insgesamt können 24 Teams teilnehmen\, und die Teilnahme erfolgt nach dem Prinzip “First-Come-First-Serve”\, also meldet euch möglichst schnell an! \nSpielformat: Gespielt wird im 6vs6-Format in gemischten Teams. Es müssen immer mindestens 2 Frauen auf dem Spielfeld stehen\, reine Frauenteams sind natürlich herzlich willkommen. \nRegeln: Das Regelblatt findet ihr im Anhang. \nWeitere Informationen: Alle weiteren Details und Informationen werden in der Woche vor dem Turnier an euch verschickt. Ihr dürft euch auf einen grossartigen Tag voller Sport und Teamgeist freuen! \nWenn ihr Fragen habt oder zusätzliche Informationen benötigt\, zögert nicht\, euch bei uns zu melden. Wir freuen uns auf eure Teilnahme und darauf\, gemeinsam einen lustigen und intensiven Völkerball-Tag zu erleben!
URL:https://vebis.ch/event/voelkerballtournier-x-heat/
LOCATION:ASVZ Hönggerberg
END:VEVENT
END:VCALENDAR