BEGIN:VCALENDAR
VERSION:2.0
PRODID:-//VeBiS - ECPv6.15.14//NONSGML v1.0//EN
CALSCALE:GREGORIAN
METHOD:PUBLISH
X-ORIGINAL-URL:https://vebis.ch
X-WR-CALDESC:Veranstaltungen für VeBiS
REFRESH-INTERVAL;VALUE=DURATION:PT1H
X-Robots-Tag:noindex
X-PUBLISHED-TTL:PT1H
BEGIN:VTIMEZONE
TZID:Europe/Zurich
BEGIN:DAYLIGHT
TZOFFSETFROM:+0100
TZOFFSETTO:+0200
TZNAME:CEST
DTSTART:20220327T010000
END:DAYLIGHT
BEGIN:STANDARD
TZOFFSETFROM:+0200
TZOFFSETTO:+0100
TZNAME:CET
DTSTART:20221030T010000
END:STANDARD
BEGIN:DAYLIGHT
TZOFFSETFROM:+0100
TZOFFSETTO:+0200
TZNAME:CEST
DTSTART:20230326T010000
END:DAYLIGHT
BEGIN:STANDARD
TZOFFSETFROM:+0200
TZOFFSETTO:+0100
TZNAME:CET
DTSTART:20231029T010000
END:STANDARD
BEGIN:DAYLIGHT
TZOFFSETFROM:+0100
TZOFFSETTO:+0200
TZNAME:CEST
DTSTART:20240331T010000
END:DAYLIGHT
BEGIN:STANDARD
TZOFFSETFROM:+0200
TZOFFSETTO:+0100
TZNAME:CET
DTSTART:20241027T010000
END:STANDARD
END:VTIMEZONE
BEGIN:VEVENT
DTSTART;TZID=Europe/Zurich:20231206T180000
DTEND;TZID=Europe/Zurich:20231206T235900
DTSTAMP:20260423T203912
CREATED:20231022T115609Z
LAST-MODIFIED:20231130T221428Z
UID:3813-1701885600-1701907140@vebis.ch
SUMMARY:Master the art of Stamm
DESCRIPTION:Attention\, Biology Master Students! Craving a break from textbooks & lab? Missing the good old times when you used to meet friends at lectures daily? Let’s raise a glass and party “to the last drop”. Chill vibes\, cool tunes and delicious drinks are waiting for you on 6.12.23 at HXE Lochness at 18.00.
URL:https://vebis.ch/event/stamm-2/
LOCATION:Lochness\, Hönggerberg
CATEGORIES:Event
END:VEVENT
END:VCALENDAR