BEGIN:VCALENDAR
VERSION:2.0
PRODID:-//VeBiS - ECPv6.15.14//NONSGML v1.0//EN
CALSCALE:GREGORIAN
METHOD:PUBLISH
X-WR-CALNAME:VeBiS
X-ORIGINAL-URL:https://vebis.ch
X-WR-CALDESC:Veranstaltungen für VeBiS
REFRESH-INTERVAL;VALUE=DURATION:PT1H
X-Robots-Tag:noindex
X-PUBLISHED-TTL:PT1H
BEGIN:VTIMEZONE
TZID:Europe/Zurich
BEGIN:DAYLIGHT
TZOFFSETFROM:+0100
TZOFFSETTO:+0200
TZNAME:CEST
DTSTART:20220327T010000
END:DAYLIGHT
BEGIN:STANDARD
TZOFFSETFROM:+0200
TZOFFSETTO:+0100
TZNAME:CET
DTSTART:20221030T010000
END:STANDARD
BEGIN:DAYLIGHT
TZOFFSETFROM:+0100
TZOFFSETTO:+0200
TZNAME:CEST
DTSTART:20230326T010000
END:DAYLIGHT
BEGIN:STANDARD
TZOFFSETFROM:+0200
TZOFFSETTO:+0100
TZNAME:CET
DTSTART:20231029T010000
END:STANDARD
BEGIN:DAYLIGHT
TZOFFSETFROM:+0100
TZOFFSETTO:+0200
TZNAME:CEST
DTSTART:20240331T010000
END:DAYLIGHT
BEGIN:STANDARD
TZOFFSETFROM:+0200
TZOFFSETTO:+0100
TZNAME:CET
DTSTART:20241027T010000
END:STANDARD
END:VTIMEZONE
BEGIN:VEVENT
DTSTART;VALUE=DATE:20231213
DTEND;VALUE=DATE:20231214
DTSTAMP:20260423T203619
CREATED:20231130T222324Z
LAST-MODIFIED:20231130T222324Z
UID:3929-1702425600-1702511999@vebis.ch
SUMMARY:Semesterendapero
DESCRIPTION:On the 13th of December\, to celebrate the end of the semester\, we will organize an apéro again. Exact date and location will be announced later on. As always we will have food and drinks in a relaxed atmosphere with members of the whole D-Biol to chat. Come over and have a look!
URL:https://vebis.ch/event/semesterendapero/
END:VEVENT
END:VCALENDAR