BEGIN:VCALENDAR
VERSION:2.0
PRODID:-//VeBiS - ECPv6.15.14//NONSGML v1.0//EN
CALSCALE:GREGORIAN
METHOD:PUBLISH
X-ORIGINAL-URL:https://vebis.ch
X-WR-CALDESC:Veranstaltungen für VeBiS
REFRESH-INTERVAL;VALUE=DURATION:PT1H
X-Robots-Tag:noindex
X-PUBLISHED-TTL:PT1H
BEGIN:VTIMEZONE
TZID:Europe/Zurich
BEGIN:DAYLIGHT
TZOFFSETFROM:+0100
TZOFFSETTO:+0200
TZNAME:CEST
DTSTART:20220327T010000
END:DAYLIGHT
BEGIN:STANDARD
TZOFFSETFROM:+0200
TZOFFSETTO:+0100
TZNAME:CET
DTSTART:20221030T010000
END:STANDARD
BEGIN:DAYLIGHT
TZOFFSETFROM:+0100
TZOFFSETTO:+0200
TZNAME:CEST
DTSTART:20230326T010000
END:DAYLIGHT
BEGIN:STANDARD
TZOFFSETFROM:+0200
TZOFFSETTO:+0100
TZNAME:CET
DTSTART:20231029T010000
END:STANDARD
BEGIN:DAYLIGHT
TZOFFSETFROM:+0100
TZOFFSETTO:+0200
TZNAME:CEST
DTSTART:20240331T010000
END:DAYLIGHT
BEGIN:STANDARD
TZOFFSETFROM:+0200
TZOFFSETTO:+0100
TZNAME:CET
DTSTART:20241027T010000
END:STANDARD
END:VTIMEZONE
BEGIN:VEVENT
DTSTART;TZID=Europe/Zurich:20231218T170000
DTEND;TZID=Europe/Zurich:20231218T210000
DTSTAMP:20260423T203926
CREATED:20231130T222128Z
LAST-MODIFIED:20231130T222128Z
UID:3926-1702918800-1702933200@vebis.ch
SUMMARY:VIS Tea Event
DESCRIPTION:Winter chills are coming\, but we have tea to soothe us in all possible ways. Come by to HXE B1 on 18.12.2023. anytime between 17:00 and 21:00 to have a cup of tea with us and our computational biology and bioinformatics buddies from VIS in Hönggerberg! \n  \nThere will be a wide range of black\, green\, red\, herbal and fruit (and other…) teas for you to enjoy\, as well as cookies\, gingerbread\, cupcakes and brownies to complement your drinks. \nSign up: https://forms.gle/nM59NTUiCjt3QqB38 \nEntry 2.- (cash/twint)
URL:https://vebis.ch/event/vis-tea-event/
END:VEVENT
END:VCALENDAR