BEGIN:VCALENDAR
VERSION:2.0
PRODID:-//VeBiS - ECPv6.15.14//NONSGML v1.0//EN
CALSCALE:GREGORIAN
METHOD:PUBLISH
X-ORIGINAL-URL:https://vebis.ch
X-WR-CALDESC:Veranstaltungen für VeBiS
REFRESH-INTERVAL;VALUE=DURATION:PT1H
X-Robots-Tag:noindex
X-PUBLISHED-TTL:PT1H
BEGIN:VTIMEZONE
TZID:Europe/Zurich
BEGIN:DAYLIGHT
TZOFFSETFROM:+0100
TZOFFSETTO:+0200
TZNAME:CEST
DTSTART:20230326T010000
END:DAYLIGHT
BEGIN:STANDARD
TZOFFSETFROM:+0200
TZOFFSETTO:+0100
TZNAME:CET
DTSTART:20231029T010000
END:STANDARD
BEGIN:DAYLIGHT
TZOFFSETFROM:+0100
TZOFFSETTO:+0200
TZNAME:CEST
DTSTART:20240331T010000
END:DAYLIGHT
BEGIN:STANDARD
TZOFFSETFROM:+0200
TZOFFSETTO:+0100
TZNAME:CET
DTSTART:20241027T010000
END:STANDARD
BEGIN:DAYLIGHT
TZOFFSETFROM:+0100
TZOFFSETTO:+0200
TZNAME:CEST
DTSTART:20250330T010000
END:DAYLIGHT
BEGIN:STANDARD
TZOFFSETFROM:+0200
TZOFFSETTO:+0100
TZNAME:CET
DTSTART:20251026T010000
END:STANDARD
END:VTIMEZONE
BEGIN:VEVENT
DTSTART;TZID=Europe/Zurich:20240306T180000
DTEND;TZID=Europe/Zurich:20240306T220000
DTSTAMP:20260423T165049
CREATED:20240222T162600Z
LAST-MODIFIED:20240222T163034Z
UID:4045-1709748000-1709762400@vebis.ch
SUMMARY:Turbo Stamm
DESCRIPTION:Am Mittwoch\, dem 6. März\, um 18 Uhr\, findet im HXE unser neuer APVxVeBiS Turbo Stamm statt.\nBeim Turbo Stamm erwartet euch eine Auswahl an verschiedenen Mates\, die ihr mit oder ohne Alkohol geniessen könnt. Natürlich wird es auch andere Optionen geben.\nMate hat wahrscheinlich vielen von euch durch die Prüfungen geholfen und dieses Event wird euch definitiv genug Energie geben\, um auch dieses Semester zu überstehen!\nSo\, save the date\, bring a mate\, then without a debate\, its gonna be great 😉\n**************************\nOn Wednesday\, March 6th\, at 6 pm\, our new APVxVeBiS Turbo Stamm will take place in HXE.\nAt the Turbo Stamm you can expect a selection of different Mates which you will be able to enjoy with or without alcohol. Of course\, other options will be available as well.\nMate probably helped a lot of you through the exams and this event will definitely energize you just enough to get through this semester too!\nSo\, save the date\, bring a mate\, then without a debate\, its gonna be great 😉
URL:https://vebis.ch/event/turbo-stamm/
LOCATION:HXE
END:VEVENT
END:VCALENDAR