BEGIN:VCALENDAR
VERSION:2.0
PRODID:-//VeBiS - ECPv6.15.14//NONSGML v1.0//EN
CALSCALE:GREGORIAN
METHOD:PUBLISH
X-WR-CALNAME:VeBiS
X-ORIGINAL-URL:https://vebis.ch
X-WR-CALDESC:Veranstaltungen für VeBiS
REFRESH-INTERVAL;VALUE=DURATION:PT1H
X-Robots-Tag:noindex
X-PUBLISHED-TTL:PT1H
BEGIN:VTIMEZONE
TZID:Europe/Zurich
BEGIN:DAYLIGHT
TZOFFSETFROM:+0100
TZOFFSETTO:+0200
TZNAME:CEST
DTSTART:20230326T010000
END:DAYLIGHT
BEGIN:STANDARD
TZOFFSETFROM:+0200
TZOFFSETTO:+0100
TZNAME:CET
DTSTART:20231029T010000
END:STANDARD
BEGIN:DAYLIGHT
TZOFFSETFROM:+0100
TZOFFSETTO:+0200
TZNAME:CEST
DTSTART:20240331T010000
END:DAYLIGHT
BEGIN:STANDARD
TZOFFSETFROM:+0200
TZOFFSETTO:+0100
TZNAME:CET
DTSTART:20241027T010000
END:STANDARD
BEGIN:DAYLIGHT
TZOFFSETFROM:+0100
TZOFFSETTO:+0200
TZNAME:CEST
DTSTART:20250330T010000
END:DAYLIGHT
BEGIN:STANDARD
TZOFFSETFROM:+0200
TZOFFSETTO:+0100
TZNAME:CET
DTSTART:20251026T010000
END:STANDARD
END:VTIMEZONE
BEGIN:VEVENT
DTSTART;TZID=Europe/Zurich:20240318T180000
DTEND;TZID=Europe/Zurich:20240318T200000
DTSTAMP:20260423T162806
CREATED:20240303T123643Z
LAST-MODIFIED:20240303T123752Z
UID:4247-1710784800-1710792000@vebis.ch
SUMMARY:PhD Project Presentations
DESCRIPTION:Sei dabei bei unserem dritten 3P am 18.03.24\, 18:00 Uhr! Unsere PhD-Studenten präsentieren in je 10-15 min: \n\nAdvancing therapeutic approaches for erythropoietic protoporphyria\nProbing Interactome Dynamics Using an Experimental Library of Protein Complex Interfaces\nMetabolic\nprograms shape endothelial phenotypes\n\nIm Anschluss an die Vorträge findet ein Apéro statt! \nBitte melde dich an: https://forms.gle/wt4fHHyVBeg4aYY98 \n———————- \nJoin us for our third 3P on 18.03.24! Our PhD students present for 10-15 min each: \n\nAdvancing therapeutic approaches for erythropoietic protoporphyria\nProbing Interactome Dynamics Using an Experimental Library of Protein Complex Interfaces\nMetabolic\nprograms shape endothelial phenotypes\n\nThe talks are followed by an Apéro! \nPlease sign up: https://forms.gle/wt4fHHyVBeg4aYY98 \n 
URL:https://vebis.ch/event/phd-project-presentations-3/
LOCATION:HIT E51
END:VEVENT
END:VCALENDAR