BEGIN:VCALENDAR
VERSION:2.0
PRODID:-//VeBiS - ECPv6.15.14//NONSGML v1.0//EN
CALSCALE:GREGORIAN
METHOD:PUBLISH
X-WR-CALNAME:VeBiS
X-ORIGINAL-URL:https://vebis.ch
X-WR-CALDESC:Veranstaltungen für VeBiS
REFRESH-INTERVAL;VALUE=DURATION:PT1H
X-Robots-Tag:noindex
X-PUBLISHED-TTL:PT1H
BEGIN:VTIMEZONE
TZID:Europe/Zurich
BEGIN:DAYLIGHT
TZOFFSETFROM:+0100
TZOFFSETTO:+0200
TZNAME:CEST
DTSTART:20230326T010000
END:DAYLIGHT
BEGIN:STANDARD
TZOFFSETFROM:+0200
TZOFFSETTO:+0100
TZNAME:CET
DTSTART:20231029T010000
END:STANDARD
BEGIN:DAYLIGHT
TZOFFSETFROM:+0100
TZOFFSETTO:+0200
TZNAME:CEST
DTSTART:20240331T010000
END:DAYLIGHT
BEGIN:STANDARD
TZOFFSETFROM:+0200
TZOFFSETTO:+0100
TZNAME:CET
DTSTART:20241027T010000
END:STANDARD
BEGIN:DAYLIGHT
TZOFFSETFROM:+0100
TZOFFSETTO:+0200
TZNAME:CEST
DTSTART:20250330T010000
END:DAYLIGHT
BEGIN:STANDARD
TZOFFSETFROM:+0200
TZOFFSETTO:+0100
TZNAME:CET
DTSTART:20251026T010000
END:STANDARD
END:VTIMEZONE
BEGIN:VEVENT
DTSTART;TZID=Europe/Zurich:20240412T180000
DTEND;TZID=Europe/Zurich:20240413T020000
DTSTAMP:20260423T150905
CREATED:20240322T065718Z
LAST-MODIFIED:20240322T065718Z
UID:4348-1712944800-1712973600@vebis.ch
SUMMARY:TechNess
DESCRIPTION:Am Freitag\, dem 12. April\, findet um 18 Uhr die SMW x VeBiS x APV TechNess im HXE statt.\nKommt vorbei und genießt an der Bar eine Auswahl an ausgefallenen Cocktails zu erschwinglichen Studentenpreisen. Und wenn du auf elektronische Musik stehst\, kannst du auch einfach bleiben und mit uns die Nacht bis 2 Uhr morgens durchfeiern! \n************************** \nOn Friday\, April 12th\, at 6 pm\, the SMW x VeBiS x APV TechNess will take place in the HXE.\nCome by and enjoy a selection of fancy drinks at the bar with affordable student prices. And if you enjoy electronic music\, you might as well just stay and party with us through the night until 2 in the morning!
URL:https://vebis.ch/event/techness/
LOCATION:HXE
END:VEVENT
END:VCALENDAR