BEGIN:VCALENDAR
VERSION:2.0
PRODID:-//VeBiS - ECPv6.15.14//NONSGML v1.0//EN
CALSCALE:GREGORIAN
METHOD:PUBLISH
X-WR-CALNAME:VeBiS
X-ORIGINAL-URL:https://vebis.ch
X-WR-CALDESC:Veranstaltungen für VeBiS
REFRESH-INTERVAL;VALUE=DURATION:PT1H
X-Robots-Tag:noindex
X-PUBLISHED-TTL:PT1H
BEGIN:VTIMEZONE
TZID:Europe/Zurich
BEGIN:DAYLIGHT
TZOFFSETFROM:+0100
TZOFFSETTO:+0200
TZNAME:CEST
DTSTART:20230326T010000
END:DAYLIGHT
BEGIN:STANDARD
TZOFFSETFROM:+0200
TZOFFSETTO:+0100
TZNAME:CET
DTSTART:20231029T010000
END:STANDARD
BEGIN:DAYLIGHT
TZOFFSETFROM:+0100
TZOFFSETTO:+0200
TZNAME:CEST
DTSTART:20240331T010000
END:DAYLIGHT
BEGIN:STANDARD
TZOFFSETFROM:+0200
TZOFFSETTO:+0100
TZNAME:CET
DTSTART:20241027T010000
END:STANDARD
BEGIN:DAYLIGHT
TZOFFSETFROM:+0100
TZOFFSETTO:+0200
TZNAME:CEST
DTSTART:20250330T010000
END:DAYLIGHT
BEGIN:STANDARD
TZOFFSETFROM:+0200
TZOFFSETTO:+0100
TZNAME:CET
DTSTART:20251026T010000
END:STANDARD
END:VTIMEZONE
BEGIN:VEVENT
DTSTART;TZID=Europe/Zurich:20240430T180000
DTEND;TZID=Europe/Zurich:20240430T220000
DTSTAMP:20260423T134354
CREATED:20240425T064538Z
LAST-MODIFIED:20240425T064538Z
UID:4538-1714500000-1714514400@vebis.ch
SUMMARY:BiUZ Game Night
DESCRIPTION:Am 30.04 ab 18:00 im VSUZH Stübli (Y10-F-24) findet der nächste Spieleabend statt! Dieses Mal mit dem BiUZ\, es gibt Getränke und Snacks und natürlich die Gelegenheit\, sich mit ganz vielen Bios auszutauschen. Kommt vorbei\, wir freuen uns auf euch! \n*************************************** \nOn 30.04 from 18:00 in the VSUZH Stübli (Y10-F-24) the next game night will take place! This time with BiUZ\, there will be drinks and snacks and of course the opportunity to chat with lots of Bios. Come along\, we look forward to seeing you!
URL:https://vebis.ch/event/biuz-game-night/
LOCATION:Campus Irchel
END:VEVENT
END:VCALENDAR