BEGIN:VCALENDAR
VERSION:2.0
PRODID:-//VeBiS - ECPv6.15.14//NONSGML v1.0//EN
CALSCALE:GREGORIAN
METHOD:PUBLISH
X-WR-CALNAME:VeBiS
X-ORIGINAL-URL:https://vebis.ch
X-WR-CALDESC:Veranstaltungen für VeBiS
REFRESH-INTERVAL;VALUE=DURATION:PT1H
X-Robots-Tag:noindex
X-PUBLISHED-TTL:PT1H
BEGIN:VTIMEZONE
TZID:Europe/Zurich
BEGIN:DAYLIGHT
TZOFFSETFROM:+0100
TZOFFSETTO:+0200
TZNAME:CEST
DTSTART:20230326T010000
END:DAYLIGHT
BEGIN:STANDARD
TZOFFSETFROM:+0200
TZOFFSETTO:+0100
TZNAME:CET
DTSTART:20231029T010000
END:STANDARD
BEGIN:DAYLIGHT
TZOFFSETFROM:+0100
TZOFFSETTO:+0200
TZNAME:CEST
DTSTART:20240331T010000
END:DAYLIGHT
BEGIN:STANDARD
TZOFFSETFROM:+0200
TZOFFSETTO:+0100
TZNAME:CET
DTSTART:20241027T010000
END:STANDARD
BEGIN:DAYLIGHT
TZOFFSETFROM:+0100
TZOFFSETTO:+0200
TZNAME:CEST
DTSTART:20250330T010000
END:DAYLIGHT
BEGIN:STANDARD
TZOFFSETFROM:+0200
TZOFFSETTO:+0100
TZNAME:CET
DTSTART:20251026T010000
END:STANDARD
END:VTIMEZONE
BEGIN:VEVENT
DTSTART;TZID=Europe/Zurich:20240521T160000
DTEND;TZID=Europe/Zurich:20240521T220000
DTSTAMP:20260423T134410
CREATED:20240503T064046Z
LAST-MODIFIED:20240510T194002Z
UID:4656-1716307200-1716328800@vebis.ch
SUMMARY:Summerbar x Analytics Club
DESCRIPTION:Am 21.05 hosten wir zusammen mit dem Analytics Club die Sommerbar auf der Polyterrasse. Kommt doch vorbei und geniesst den Sommeranfang mit ein paar kalten Drinks. \n********** \nOn 21.05.24 the VeBiS and the Analytics Club at ETH host togehter the summmerbar from 16:00 on the Polyterasse. Come by\, enjoy a cold drink and some food with your friends. We are looking forward to you! 🙂
URL:https://vebis.ch/event/summerbar-x-analytics-club/
LOCATION:Polyterasse
END:VEVENT
END:VCALENDAR