BEGIN:VCALENDAR
VERSION:2.0
PRODID:-//VeBiS - ECPv6.15.14//NONSGML v1.0//EN
CALSCALE:GREGORIAN
METHOD:PUBLISH
X-WR-CALNAME:VeBiS
X-ORIGINAL-URL:https://vebis.ch
X-WR-CALDESC:Veranstaltungen für VeBiS
REFRESH-INTERVAL;VALUE=DURATION:PT1H
X-Robots-Tag:noindex
X-PUBLISHED-TTL:PT1H
BEGIN:VTIMEZONE
TZID:Europe/Zurich
BEGIN:DAYLIGHT
TZOFFSETFROM:+0100
TZOFFSETTO:+0200
TZNAME:CEST
DTSTART:20230326T010000
END:DAYLIGHT
BEGIN:STANDARD
TZOFFSETFROM:+0200
TZOFFSETTO:+0100
TZNAME:CET
DTSTART:20231029T010000
END:STANDARD
BEGIN:DAYLIGHT
TZOFFSETFROM:+0100
TZOFFSETTO:+0200
TZNAME:CEST
DTSTART:20240331T010000
END:DAYLIGHT
BEGIN:STANDARD
TZOFFSETFROM:+0200
TZOFFSETTO:+0100
TZNAME:CET
DTSTART:20241027T010000
END:STANDARD
BEGIN:DAYLIGHT
TZOFFSETFROM:+0100
TZOFFSETTO:+0200
TZNAME:CEST
DTSTART:20250330T010000
END:DAYLIGHT
BEGIN:STANDARD
TZOFFSETFROM:+0200
TZOFFSETTO:+0100
TZNAME:CET
DTSTART:20251026T010000
END:STANDARD
END:VTIMEZONE
BEGIN:VEVENT
DTSTART;TZID=Europe/Zurich:20240926T200000
DTEND;TZID=Europe/Zurich:20240927T030000
DTSTAMP:20260423T072559
CREATED:20240926T011752Z
LAST-MODIFIED:20240926T011752Z
UID:4794-1727380800-1727406000@vebis.ch
SUMMARY:ESF-Bar x VMP
DESCRIPTION:Am Donnerstag\, dem 26 September findet das legendäre ESF auf dem Hönggerberg Piazza statt. Natürlich gibt es wieder eine VeBiS-Bar\, dieses Jahr hosten wir diese zusammen mit dem VMP im HPH:). Komm uns doch besuchen und geniesse bei uns ein Bier oder einen Cocktail. Wir freuen uns\, euch zu sehen!
URL:https://vebis.ch/event/esf-bar-x-vmp/
LOCATION:Hönggerberg
END:VEVENT
END:VCALENDAR