BEGIN:VCALENDAR
VERSION:2.0
PRODID:-//VeBiS - ECPv6.15.14//NONSGML v1.0//EN
CALSCALE:GREGORIAN
METHOD:PUBLISH
X-ORIGINAL-URL:https://vebis.ch
X-WR-CALDESC:Veranstaltungen für VeBiS
REFRESH-INTERVAL;VALUE=DURATION:PT1H
X-Robots-Tag:noindex
X-PUBLISHED-TTL:PT1H
BEGIN:VTIMEZONE
TZID:Europe/Zurich
BEGIN:DAYLIGHT
TZOFFSETFROM:+0100
TZOFFSETTO:+0200
TZNAME:CEST
DTSTART:20230326T010000
END:DAYLIGHT
BEGIN:STANDARD
TZOFFSETFROM:+0200
TZOFFSETTO:+0100
TZNAME:CET
DTSTART:20231029T010000
END:STANDARD
BEGIN:DAYLIGHT
TZOFFSETFROM:+0100
TZOFFSETTO:+0200
TZNAME:CEST
DTSTART:20240331T010000
END:DAYLIGHT
BEGIN:STANDARD
TZOFFSETFROM:+0200
TZOFFSETTO:+0100
TZNAME:CET
DTSTART:20241027T010000
END:STANDARD
BEGIN:DAYLIGHT
TZOFFSETFROM:+0100
TZOFFSETTO:+0200
TZNAME:CEST
DTSTART:20250330T010000
END:DAYLIGHT
BEGIN:STANDARD
TZOFFSETFROM:+0200
TZOFFSETTO:+0100
TZNAME:CET
DTSTART:20251026T010000
END:STANDARD
END:VTIMEZONE
BEGIN:VEVENT
DTSTART;TZID=Europe/Zurich:20241109T100000
DTEND;TZID=Europe/Zurich:20241109T170000
DTSTAMP:20260423T041020
CREATED:20241023T133037Z
LAST-MODIFIED:20241023T133037Z
UID:4847-1731146400-1731171600@vebis.ch
SUMMARY:Volleyball Tournament VMP x VeBiS
DESCRIPTION:Lust dich auszupowern? Am Volleyball Turnier VeBiS x VMP ( 09.11.24 ab 10:00 Uhr YPT\, ASVZ Irchel ) sind Ausdauer\, Energie und insbesondere Teamfähigkeit gefragt. Meldet euch über den Link: https://vmp.ethz.ch/de/events/volleyballs24/ als Team von 5 Personen an. Jeder Fachverein stellt 6 Teams nach dem Prinzip first come first serve. Für energieliefernde Verpflegung und Getränke ist gesorgt( jedoch nicht für Lunch)\, vergesst eure Wasserflaschen und Lunch nicht!\nWir freuen uns auf euch und ein spannendes Turnier. \nReady for some action? At the Volleyball Tournament VeBiS x VMP ( 09.11.24 from 10:00 AM YPT\, ASVZ Irchel ) you get the chance to show your endurance and team spirit. Sign up via the link: https://vmp.ethz.ch/de/events/volleyballs24/ as a Team of 5 People . There are going to be 6 Teams per student association and it’s first come first serve.\nThere will be some energy-providing snacks and drinks (not lunch)\, don’t forget your water bottle and lunch though!\nWe’re excited for a thrilling tour
URL:https://vebis.ch/event/volleyball-tournament-vmp-x-vebis/
LOCATION:VPT\, ASVZ Irchel
END:VEVENT
END:VCALENDAR