BEGIN:VCALENDAR
VERSION:2.0
PRODID:-//VeBiS - ECPv6.15.14//NONSGML v1.0//EN
CALSCALE:GREGORIAN
METHOD:PUBLISH
X-ORIGINAL-URL:https://vebis.ch
X-WR-CALDESC:Veranstaltungen für VeBiS
REFRESH-INTERVAL;VALUE=DURATION:PT1H
X-Robots-Tag:noindex
X-PUBLISHED-TTL:PT1H
BEGIN:VTIMEZONE
TZID:Europe/Zurich
BEGIN:DAYLIGHT
TZOFFSETFROM:+0100
TZOFFSETTO:+0200
TZNAME:CEST
DTSTART:20230326T010000
END:DAYLIGHT
BEGIN:STANDARD
TZOFFSETFROM:+0200
TZOFFSETTO:+0100
TZNAME:CET
DTSTART:20231029T010000
END:STANDARD
BEGIN:DAYLIGHT
TZOFFSETFROM:+0100
TZOFFSETTO:+0200
TZNAME:CEST
DTSTART:20240331T010000
END:DAYLIGHT
BEGIN:STANDARD
TZOFFSETFROM:+0200
TZOFFSETTO:+0100
TZNAME:CET
DTSTART:20241027T010000
END:STANDARD
BEGIN:DAYLIGHT
TZOFFSETFROM:+0100
TZOFFSETTO:+0200
TZNAME:CEST
DTSTART:20250330T010000
END:DAYLIGHT
BEGIN:STANDARD
TZOFFSETFROM:+0200
TZOFFSETTO:+0100
TZNAME:CET
DTSTART:20251026T010000
END:STANDARD
END:VTIMEZONE
BEGIN:VEVENT
DTSTART;TZID=Europe/Zurich:20241216T160000
DTEND;TZID=Europe/Zurich:20241216T200000
DTSTAMP:20260423T024154
CREATED:20241203T081656Z
LAST-MODIFIED:20241203T081656Z
UID:4913-1734364800-1734379200@vebis.ch
SUMMARY:Semester Apero 2024
DESCRIPTION:Wir laden euch herzlich zum Semesterendapéro zusammen mit dem D-BIOL am 16. Dezember 2024 16:00 – 20:00 im HXE B1 ein. Komm mit und feiere das erfolgreich abgeschlossene Semester und die anstehenden Ferien mit euren Mitstudierenden und Dozenten. Wir freuen uns darauf\, zusammen mit euch auf unseren gemeinsamen Erfolgen anzustossen. 🥂 \nOn December 16\, 2024\, join us for a ‘Semesterendapéro’ from 4:00 PM to 8:00 PM in HXE B1\, along with D-BIOL. Come and celebrate a successful semester and the upcoming holiday season with your fellow students\, professors\, and lecturers from the biology department. We look forward to toasting to the achievements of the semester together. 🥂
URL:https://vebis.ch/event/semester-apero-2024/
LOCATION:HXE B1
END:VEVENT
END:VCALENDAR