BEGIN:VCALENDAR
VERSION:2.0
PRODID:-//VeBiS - ECPv6.15.14//NONSGML v1.0//EN
CALSCALE:GREGORIAN
METHOD:PUBLISH
X-ORIGINAL-URL:https://vebis.ch
X-WR-CALDESC:Veranstaltungen für VeBiS
REFRESH-INTERVAL;VALUE=DURATION:PT1H
X-Robots-Tag:noindex
X-PUBLISHED-TTL:PT1H
BEGIN:VTIMEZONE
TZID:Europe/Zurich
BEGIN:DAYLIGHT
TZOFFSETFROM:+0100
TZOFFSETTO:+0200
TZNAME:CEST
DTSTART:20240331T010000
END:DAYLIGHT
BEGIN:STANDARD
TZOFFSETFROM:+0200
TZOFFSETTO:+0100
TZNAME:CET
DTSTART:20241027T010000
END:STANDARD
BEGIN:DAYLIGHT
TZOFFSETFROM:+0100
TZOFFSETTO:+0200
TZNAME:CEST
DTSTART:20250330T010000
END:DAYLIGHT
BEGIN:STANDARD
TZOFFSETFROM:+0200
TZOFFSETTO:+0100
TZNAME:CET
DTSTART:20251026T010000
END:STANDARD
BEGIN:DAYLIGHT
TZOFFSETFROM:+0100
TZOFFSETTO:+0200
TZNAME:CEST
DTSTART:20260329T010000
END:DAYLIGHT
BEGIN:STANDARD
TZOFFSETFROM:+0200
TZOFFSETTO:+0100
TZNAME:CET
DTSTART:20261025T010000
END:STANDARD
END:VTIMEZONE
BEGIN:VEVENT
DTSTART;TZID=Europe/Zurich:20250508T183000
DTEND;TZID=Europe/Zurich:20250508T223000
DTSTAMP:20260422T192538
CREATED:20250420T170843Z
LAST-MODIFIED:20250420T170843Z
UID:5057-1746729000-1746743400@vebis.ch
SUMMARY:Band Evening
DESCRIPTION:Herzliche Einladung zum Band Abend 2.0\nAm Donnerstag 8.05.2025 im HXE veranstalten VeBiS\, AMIV\, VCS und VMP eine Feier inspiriert vom Band Abend letztes Jahr.\n\nÜber den Abend werden wir von 2 Bands und einem DJ Unterhalten.\nIhr könnt euch auf die Bands Masterchef und Type J Freuen!\n\nEs geht um 18.30 im HXE B1 los.\nWir freuen uns auf euch ! Tickets hier erhältlich.\n\nCordial invitation to the Band Evening 2.0\nOn Thursday 8.05.2025 in the HXE\, VeBiS\, AMIV\, VCS and VMP are organizing a celebration inspired by last year’s band evening.\n\n \n\nDuring the evening we will be entertained by 2 bands and a DJ.\nYou can look forward to the bands Masterchef and Type J!\n\n \n\nIt starts at 18.30 in the HXE B1.\nWe are looking forward to seeing you! Tickets available here. Translated with Deepl.
URL:https://vebis.ch/event/band-evening-2/
LOCATION:HXE B1
END:VEVENT
END:VCALENDAR