BEGIN:VCALENDAR
VERSION:2.0
PRODID:-//VeBiS - ECPv6.15.14//NONSGML v1.0//EN
CALSCALE:GREGORIAN
METHOD:PUBLISH
X-WR-CALNAME:VeBiS
X-ORIGINAL-URL:https://vebis.ch
X-WR-CALDESC:Veranstaltungen für VeBiS
REFRESH-INTERVAL;VALUE=DURATION:PT1H
X-Robots-Tag:noindex
X-PUBLISHED-TTL:PT1H
BEGIN:VTIMEZONE
TZID:Europe/Zurich
BEGIN:DAYLIGHT
TZOFFSETFROM:+0100
TZOFFSETTO:+0200
TZNAME:CEST
DTSTART:20240331T010000
END:DAYLIGHT
BEGIN:STANDARD
TZOFFSETFROM:+0200
TZOFFSETTO:+0100
TZNAME:CET
DTSTART:20241027T010000
END:STANDARD
BEGIN:DAYLIGHT
TZOFFSETFROM:+0100
TZOFFSETTO:+0200
TZNAME:CEST
DTSTART:20250330T010000
END:DAYLIGHT
BEGIN:STANDARD
TZOFFSETFROM:+0200
TZOFFSETTO:+0100
TZNAME:CET
DTSTART:20251026T010000
END:STANDARD
BEGIN:DAYLIGHT
TZOFFSETFROM:+0100
TZOFFSETTO:+0200
TZNAME:CEST
DTSTART:20260329T010000
END:DAYLIGHT
BEGIN:STANDARD
TZOFFSETFROM:+0200
TZOFFSETTO:+0100
TZNAME:CET
DTSTART:20261025T010000
END:STANDARD
END:VTIMEZONE
BEGIN:VEVENT
DTSTART;TZID=Europe/Zurich:20250923T183000
DTEND;TZID=Europe/Zurich:20250923T213000
DTSTAMP:20260422T134015
CREATED:20250916T095616Z
LAST-MODIFIED:20250916T095616Z
UID:5115-1758652200-1758663000@vebis.ch
SUMMARY:Vebis Mitgliederversammlung / Members Meeting
DESCRIPTION:Liebes VeBiS-Mitglied und liebe Freunde des VeBiS\,\n\nAm Dienstag\, den 23. September\, steht unsere Mitgliederversammlung an! Du bist ganz herzlich eingeladen\, um 18:30 ins HCI J6 zu kommen.\n\nMelde dich bitte hier an: https://forms.gle/bEuDSa3PFyzRmhrNA\nHier findest du die Traktanden und weitere spannende Dokumente: https://polybox01.ethz.ch/index.php/s/q8SGagH2c97bgHo\n\nFür Verpflegung haben wir gesorgt (es gibt Pizzaaaa 🍕). Wir werden dir über unsere vergangenen und kommenden Aktivitäten erzählen\, du wirst Kommissionen beitreten können\, und du wirst über wichtige Dinge abstimmen können\, wie zum Beispiel der neue Vorstand und wichtige Veränderungen unserer Statuten (ich weiss\, aufregend)! Vielleicht wird sogar das ein oder andere Spiel mit euch gespielt\, also hab ihr praktisch keine Wahl mehr und müsst einfach dabei sein… Wir freuen uns auf dich!\n\n\n—\nDear VeBiS member and good friends of VeBiS\,\n\nOn Tuesday\, the 23rd of September\, the next members meeting will take place! You are very welcome to join us at HCI J6 at 18:30\n\nPlease sign up here: https://forms.gle/bEuDSa3PFyzRmhrNA\nHere are the points of order and other relevant documents: https://polybox01.ethz.ch/index.php/s/q8SGagH2c97bgHo\n\nWe have taken care of food and beverages (I heard it’s going to be pizzaa 🍕). We will tell you about past and upcoming activities\, you can take a look at our different commissions and maybe even join one (or all )of them\, and you will get to vote on some very important decisions\, such as the new board and some important changes to the bylaws (I know\, exciting stuff)! We may or may not have a game prepared for you as well to make things more interesting so I guess you will have no choice but to come… We look forward to seeing you there!
URL:https://vebis.ch/event/vebis-mitgliederversammlung-members-meeting/
LOCATION:HCI J6\, Vladimir-Prelog-Weg\, Zürich\, Zürich\, 8093\, Switzerland
END:VEVENT
END:VCALENDAR