BEGIN:VCALENDAR
VERSION:2.0
PRODID:-//VeBiS - ECPv6.15.14//NONSGML v1.0//EN
CALSCALE:GREGORIAN
METHOD:PUBLISH
X-ORIGINAL-URL:https://vebis.ch
X-WR-CALDESC:Veranstaltungen für VeBiS
REFRESH-INTERVAL;VALUE=DURATION:PT1H
X-Robots-Tag:noindex
X-PUBLISHED-TTL:PT1H
BEGIN:VTIMEZONE
TZID:Europe/Zurich
BEGIN:DAYLIGHT
TZOFFSETFROM:+0100
TZOFFSETTO:+0200
TZNAME:CEST
DTSTART:20220327T010000
END:DAYLIGHT
BEGIN:STANDARD
TZOFFSETFROM:+0200
TZOFFSETTO:+0100
TZNAME:CET
DTSTART:20221030T010000
END:STANDARD
BEGIN:DAYLIGHT
TZOFFSETFROM:+0100
TZOFFSETTO:+0200
TZNAME:CEST
DTSTART:20230326T010000
END:DAYLIGHT
BEGIN:STANDARD
TZOFFSETFROM:+0200
TZOFFSETTO:+0100
TZNAME:CET
DTSTART:20231029T010000
END:STANDARD
BEGIN:DAYLIGHT
TZOFFSETFROM:+0100
TZOFFSETTO:+0200
TZNAME:CEST
DTSTART:20240331T010000
END:DAYLIGHT
BEGIN:STANDARD
TZOFFSETFROM:+0200
TZOFFSETTO:+0100
TZNAME:CET
DTSTART:20241027T010000
END:STANDARD
END:VTIMEZONE
BEGIN:VEVENT
DTSTART;TZID=Europe/Zurich:20230824T110000
DTEND;TZID=Europe/Zurich:20230824T140000
DTSTAMP:20260424T011207
CREATED:20230818T082801Z
LAST-MODIFIED:20230818T082801Z
UID:3612-1692874800-1692885600@vebis.ch
SUMMARY:Prüfungsendbar
DESCRIPTION:Um den Abschluss unserer Prüfungen zu feiern\, organisiert der VSETH die Prüfungsendbar für den VeBiS. Wir freuen uns\, euch am 24. August 2023 auf dem Schachbrettplatz am Hönggerberg zu sehen. Die Bar ist von 11:00 bis 14:00 Uhr geöffnet! \nTo celebrate the completion of our exams\, VSETH is organizing the Prüfungsendbar for the VeBiS. We are excited to see you on August 24th\, 2023\, at the Chessboard Square at Hönggerberg. The bar is open from 11:00 until 14:00!
URL:https://vebis.ch/event/pruefungsendbar/
LOCATION:Hönggerberg
CATEGORIES:Event
END:VEVENT
END:VCALENDAR