BEGIN:VCALENDAR
VERSION:2.0
PRODID:-//VeBiS - ECPv6.15.14//NONSGML v1.0//EN
CALSCALE:GREGORIAN
METHOD:PUBLISH
X-ORIGINAL-URL:https://vebis.ch
X-WR-CALDESC:Veranstaltungen für VeBiS
REFRESH-INTERVAL;VALUE=DURATION:PT1H
X-Robots-Tag:noindex
X-PUBLISHED-TTL:PT1H
BEGIN:VTIMEZONE
TZID:Europe/Zurich
BEGIN:DAYLIGHT
TZOFFSETFROM:+0100
TZOFFSETTO:+0200
TZNAME:CEST
DTSTART:20220327T010000
END:DAYLIGHT
BEGIN:STANDARD
TZOFFSETFROM:+0200
TZOFFSETTO:+0100
TZNAME:CET
DTSTART:20221030T010000
END:STANDARD
BEGIN:DAYLIGHT
TZOFFSETFROM:+0100
TZOFFSETTO:+0200
TZNAME:CEST
DTSTART:20230326T010000
END:DAYLIGHT
BEGIN:STANDARD
TZOFFSETFROM:+0200
TZOFFSETTO:+0100
TZNAME:CET
DTSTART:20231029T010000
END:STANDARD
BEGIN:DAYLIGHT
TZOFFSETFROM:+0100
TZOFFSETTO:+0200
TZNAME:CEST
DTSTART:20240331T010000
END:DAYLIGHT
BEGIN:STANDARD
TZOFFSETFROM:+0200
TZOFFSETTO:+0100
TZNAME:CET
DTSTART:20241027T010000
END:STANDARD
END:VTIMEZONE
BEGIN:VEVENT
DTSTART;TZID=Europe/Zurich:20231002T180000
DTEND;TZID=Europe/Zurich:20231002T213000
DTSTAMP:20260423T221245
CREATED:20230924T131217Z
LAST-MODIFIED:20230924T191653Z
UID:3666-1696269600-1696282200@vebis.ch
SUMMARY:VeBiS MV
DESCRIPTION:Liebe VeBiS-Mitglieder\, \nIch lade euch herzlich zur Mitgliederversammlung des VeBiS am Montag\, dem 02.10.2023\, um 18:00 Uhr ein. Die Traktandenliste und weitere Sitzungsunterlagen findet ihr ab heute auf dieser Polybox . (Passwort: findet ihr in eurem Email vom 22.09). Die Rechnungsrevision ist leider noch nicht vollständig und wird\, sobald diese fertig ist\, auf die Polybox nachgereicht. \nDie Mitgliederversammlung wird im HCI G3 stattfinden\, ich bitte euch bis am 30.09.2023 die Anmeldung dafür hier auszufüllen. Im Anschluss an die MV werden wir im HXE B1 gemeinsam Sushi und ein Dessert Buffet geniessen. Falls du gerne backst\, würden wir uns riesig über einen Kuchen oder ähnliches für unser Dessert Buffet freuen. \nWenn ihr Lust habt\, in einer Kommission oder im Vorstand aktiv zu werden\, meldet euch doch bei mir (praesident@vebis.ch) oder kommt zur Mitgliederversammlung und meldet euch dort spontan für eine Kommission oder den Vorstand. \nIch wünsche euch weiterhin ein spannendes Semester und bis bald!
URL:https://vebis.ch/event/vebis-mv/
CATEGORIES:MV
END:VEVENT
BEGIN:VEVENT
DTSTART;VALUE=DATE:20231006
DTEND;VALUE=DATE:20231007
DTSTAMP:20260423T221245
CREATED:20230924T130223Z
LAST-MODIFIED:20231003T155137Z
UID:3655-1696550400-1696636799@vebis.ch
SUMMARY:Rock Night
DESCRIPTION:This Friday\, the insane RockNight 2023 will take place. If you’re an enthusiastic rock listener\, make sure you come along to the HXE at ETH Hönggerberg (it’s the Building where the Loch Ness is). Tickets will only be sold at the box Office:\nStudent with LEGI: 15 CHF\nExternal listeners: 30 CHF \nGet ready to go crazy\, we look forward to seeing you!
URL:https://vebis.ch/event/rock-night/
CATEGORIES:Event
END:VEVENT
BEGIN:VEVENT
DTSTART;TZID=Europe/Zurich:20231009T180000
DTEND;TZID=Europe/Zurich:20231009T230000
DTSTAMP:20260423T221245
CREATED:20230924T130418Z
LAST-MODIFIED:20231003T155043Z
UID:3658-1696874400-1696892400@vebis.ch
SUMMARY:Mojito Stamm x APV
DESCRIPTION:Geniesse einen leckeren Mojito (oder zwei 😉 am ersten VeBiS Stamm von diesem Semester\, organisiert zusammen mit dem APV. Wir freuen uns\, euch ab 18:00 am 9. Oktober 2023 beim Lochness zu sehen! \n——————————— \nEnjoy a great mojito (or two 😉 at the first VeBiS Stamm of the semester\, organized in collaboration with the APV. Join us from 18:00 at the Lochness (HXE)\, on Monday\, 9th October\, 2023!
URL:https://vebis.ch/event/mojito-stamm-x-apv/
LOCATION:HXE
CATEGORIES:Event
END:VEVENT
BEGIN:VEVENT
DTSTART;TZID=Europe/Zurich:20231012T180000
DTEND;TZID=Europe/Zurich:20231012T220000
DTSTAMP:20260423T221245
CREATED:20230924T130547Z
LAST-MODIFIED:20231008T102204Z
UID:3660-1697133600-1697148000@vebis.ch
SUMMARY:Ersti Bonding x APV x VCS
DESCRIPTION:Erstis aufgepasst! Bei diesem Event könnt ihr eure pharmazeutisch-biologisch-chemischen Mitstudierenden besser kennenlernen – Wir freuen uns\, euch alle im HXE B1 mit viel Bier (und weiteren Getränken) begrüssen zu dürfen! Nicht-Erstis sind auch willkommen\nAnmeldung unter: https://vcs.ethz.ch/event/ersti-bonding-apv-vebis-vcs/
URL:https://vebis.ch/event/ersti-bonding-x-apv-x-vcs/
CATEGORIES:Event
END:VEVENT
BEGIN:VEVENT
DTSTART;TZID=Europe/Zurich:20231016T180000
DTEND;TZID=Europe/Zurich:20231016T220000
DTSTAMP:20260423T221245
CREATED:20230924T130704Z
LAST-MODIFIED:20231005T180741Z
UID:3662-1697479200-1697493600@vebis.ch
SUMMARY:PhD Project Presentations
DESCRIPTION:We’re excited to invite you to our upcoming PhD Project Presentations event. The topics are:\n-Functional Precision Medicine in Colorectal Cancer\n\n \n\n-Engineering Synthetic Methanol Metabolism in E. coli\n\n \n\n-Dimerization of a 5 kDa domain defines the architecture of the 5 MDa E. coli pyruvate dehydrogenase complex\n\n \n\nJoin us for an evening of insightful talks as our talented PhD candidates share their research projects. It’s a great opportunity to learn about their work and engage in meaningful conversations during the apero afterwards. Sign up here: https://forms.gle/VZD2Yhp2PTjr3Jnf7\n\n \n\nWe look forward to seeing you on the 16th of October at 1800 in HCI D2
URL:https://vebis.ch/event/phd-project-presentations/
LOCATION:Hönggerberg
CATEGORIES:Event
END:VEVENT
BEGIN:VEVENT
DTSTART;TZID=Europe/Zurich:20231017T183000
DTEND;TZID=Europe/Zurich:20231017T223000
DTSTAMP:20260423T221245
CREATED:20231012T174305Z
LAST-MODIFIED:20231012T174556Z
UID:3764-1697567400-1697581800@vebis.ch
SUMMARY:Pub Crawl
DESCRIPTION:🍺🍸🥃🍺🍸🥃🍺🍸🥃🍺🍸\nDer PUB CRAWL ist wieder da! \nMöchtest du in Zürich’s Nachtleben eintauchen und coole Bars und fancy Pubs entdecken? Dann begleite uns am 17.10.2023 auf unserem Pub Crawl durch die Stadt und lass dich auf einen Abend voller spannender Drinks\, guter Musik und fröhlicher Feierabend Stimmung ein. Anmeldung und Einladung in den Gruppenchat findest du über den Whatsapp QR Code. Wir treffen uns um 18:30 vor dem HXE Gebäude\, wo ihr euer erstes Weg-Bier abholen könnt.\nWir freuen uns auf einen tollen Abend mit euch! \n🍺🍸🥃🍺🍸🥃🍺🍸🥃🍺🍸 \nWant to immerse yourself in Zurich’s nightlife and discover trendy bars and pubs? Then join us on October 17\, 2023 for our pub crawl through the city and immerse yourself in an evening filled with delicious drinks\, good music\, and a cheerful “after-work” atmosphere. You can find the registration and invitation in the group chat via WhatsApp QR code. We will meet at 6:30 pm in front of the HXE building\, where you can pick up your first “to go” beer. We’re looking forward to spending a great evening with you. \n🍺🍸🥃🍺🍸🥃🍺🍸🥃🍺🍸 \nLink to chat: https://chat.whatsapp.com/Dk99pzmzooE1IFARRVCv95
URL:https://vebis.ch/event/pub-crawl-17-10-23/
CATEGORIES:Event
END:VEVENT
BEGIN:VEVENT
DTSTART;TZID=Europe/Zurich:20231020T210000
DTEND;TZID=Europe/Zurich:20231020T235900
DTSTAMP:20260423T221245
CREATED:20230924T130821Z
LAST-MODIFIED:20231012T174601Z
UID:3664-1697835600-1697846340@vebis.ch
SUMMARY:Halloween Party
DESCRIPTION:Spooky season is slowly creeping closer!!🎃 👻 We will revive the great hit of the last year just like the undead 🧟‍♀ and want to invite all of you to “the Grave Rave 2.0”. You can’t miss the coolest halloween party of the year! It will take place on Friday the 20th of October\, the doors will open at 9pm at Campus Zentrum (CAB) get crazy and creative with your costume.☠🧙🏼‍♂🧛🏻‍♂🎃 If you’d like to enjoy the party for free and get two free drinks\, sign up here in one of our helper shifts: https://docs.google.com/spreadsheets/d/1C26Y8-kM7q1DT5kjLdufkFIB69Si7amy/edit#gid=550141904 If instead you just want to enjoy the party you can buy a ticket here: https://eventfrog.ch/de/p/party/halloween/the-grave-rave-7115413352201826346.html Hurry up\, don’t miss your chance!🤗👻
URL:https://vebis.ch/event/halloween-party/
CATEGORIES:Event
END:VEVENT
END:VCALENDAR