BEGIN:VCALENDAR
VERSION:2.0
PRODID:-//VeBiS - ECPv6.15.14//NONSGML v1.0//EN
CALSCALE:GREGORIAN
METHOD:PUBLISH
X-WR-CALNAME:VeBiS
X-ORIGINAL-URL:https://vebis.ch
X-WR-CALDESC:Veranstaltungen für VeBiS
REFRESH-INTERVAL;VALUE=DURATION:PT1H
X-Robots-Tag:noindex
X-PUBLISHED-TTL:PT1H
BEGIN:VTIMEZONE
TZID:Europe/Zurich
BEGIN:DAYLIGHT
TZOFFSETFROM:+0100
TZOFFSETTO:+0200
TZNAME:CEST
DTSTART:20220327T010000
END:DAYLIGHT
BEGIN:STANDARD
TZOFFSETFROM:+0200
TZOFFSETTO:+0100
TZNAME:CET
DTSTART:20221030T010000
END:STANDARD
BEGIN:DAYLIGHT
TZOFFSETFROM:+0100
TZOFFSETTO:+0200
TZNAME:CEST
DTSTART:20230326T010000
END:DAYLIGHT
BEGIN:STANDARD
TZOFFSETFROM:+0200
TZOFFSETTO:+0100
TZNAME:CET
DTSTART:20231029T010000
END:STANDARD
BEGIN:DAYLIGHT
TZOFFSETFROM:+0100
TZOFFSETTO:+0200
TZNAME:CEST
DTSTART:20240331T010000
END:DAYLIGHT
BEGIN:STANDARD
TZOFFSETFROM:+0200
TZOFFSETTO:+0100
TZNAME:CET
DTSTART:20241027T010000
END:STANDARD
END:VTIMEZONE
BEGIN:VEVENT
DTSTART;VALUE=DATE:20231101
DTEND;VALUE=DATE:20231102
DTSTAMP:20260423T203717
CREATED:20231022T114914Z
LAST-MODIFIED:20231022T114914Z
UID:3801-1698796800-1698883199@vebis.ch
SUMMARY:Halloween Stamm x AIV
DESCRIPTION:
URL:https://vebis.ch/event/halloween-stamm-x-aiv/
CATEGORIES:Event
END:VEVENT
BEGIN:VEVENT
DTSTART;TZID=Europe/Zurich:20231106T210000
DTEND;TZID=Europe/Zurich:20231107T030000
DTSTAMP:20260423T203717
CREATED:20231106T201035Z
LAST-MODIFIED:20231106T201209Z
UID:3846-1699304400-1699326000@vebis.ch
SUMMARY:Animal Kingdom 2.0
DESCRIPTION:Where vipers and hornets meet beavers and monkeys: the last party before all animals will go into hibernation! Get one of the limited early bird tickets. The concept of the party: everyone will be assigned an animal upon entering the club\, if you find your animal partner\, you will get a free shot!🦧🐍🦫🦋
URL:https://vebis.ch/event/animal-kingdom-2-0/
END:VEVENT
BEGIN:VEVENT
DTSTART;TZID=Europe/Zurich:20231111T110000
DTEND;TZID=Europe/Zurich:20231111T170000
DTSTAMP:20260423T203717
CREATED:20231110T084329Z
LAST-MODIFIED:20231110T084329Z
UID:3869-1699700400-1699722000@vebis.ch
SUMMARY:Völkerballtournier x HeaT
DESCRIPTION:Stellt euch vor\, ihr seid 12 Jahre alt\, auf dem Weg zur Turnhalle und euch erwartet eine Stunde Völkerball. Was gibt’s Besseres?\nGenau\, einen ganzen Tag Völkerball!!!\nWir freuen uns\, euch herzlich zu unserem Völkerballturnier einzuladen\, das ein Tag voller Action\, Teamarbeit und sportlichem Ehrgeiz verspricht. Nehmt eure Freunde und meldet euch als Team an. \nDatum und Uhrzeit: Samstag\, 11. November 2023\, ab 11:00 Uhr \nVeranstaltungsort: ASVZ am Campus Hönggerberg \nAnmeldung: Ihr könnt euch ab sofort über folgenden Link anmelden:\nhttps://forms.gle/xCdD1BXHyMSHRdPs8 \nTeambildung: Ihr benötigt ein Team von mindestens 6 bis maximal 8 Personen (mind. 2 Frauen)\, um am Turnier teilzunehmen. Überlegt euch einen kreativen Gruppennamen und bestimmt eure/n Gruppenleiter/in. Die Gruppenleitung ist dafür verantwortlich\, alle wichtigen Informationen an das Team weiterzugeben. \nTeilnehmeranzahl: Insgesamt können 24 Teams teilnehmen\, und die Teilnahme erfolgt nach dem Prinzip “First-Come-First-Serve”\, also meldet euch möglichst schnell an! \nSpielformat: Gespielt wird im 6vs6-Format in gemischten Teams. Es müssen immer mindestens 2 Frauen auf dem Spielfeld stehen\, reine Frauenteams sind natürlich herzlich willkommen. \nRegeln: Das Regelblatt findet ihr im Anhang. \nWeitere Informationen: Alle weiteren Details und Informationen werden in der Woche vor dem Turnier an euch verschickt. Ihr dürft euch auf einen grossartigen Tag voller Sport und Teamgeist freuen! \nWenn ihr Fragen habt oder zusätzliche Informationen benötigt\, zögert nicht\, euch bei uns zu melden. Wir freuen uns auf eure Teilnahme und darauf\, gemeinsam einen lustigen und intensiven Völkerball-Tag zu erleben!
URL:https://vebis.ch/event/voelkerballtournier-x-heat/
LOCATION:ASVZ Hönggerberg
END:VEVENT
BEGIN:VEVENT
DTSTART;TZID=Europe/Zurich:20231114T190000
DTEND;TZID=Europe/Zurich:20231114T230000
DTSTAMP:20260423T203717
CREATED:20231110T083849Z
LAST-MODIFIED:20231110T083849Z
UID:3867-1699988400-1700002800@vebis.ch
SUMMARY:KARAOKE night party x VMP x UFO
DESCRIPTION:Next Tuesday 14th of November VeBiS goes to the CABakomben (CAB D 21) in ETH Centre for Karaoke Night with UFO and VMP! You can grab the microphone and sing something yourself or just stand at the bar and bawl along from there\, see you there! (free entrance) \nNächsten Dienstag 14. November (ab 19 Uhr)\, geht der VeBiS in die CABakomben (CAB D 21) im ETH-Zentrum zur Karaoke Night mit UFO und VMP! Du kannst dir das Mikrofon schnappen und selber etwas singen oder einfach an der Bar stehen und von dort aus mitgrölen. Bis dann! (Eintritt ist frei)
URL:https://vebis.ch/event/karaoke-night-party-x-vmp-x-ufo/
LOCATION:CAB D 21
END:VEVENT
BEGIN:VEVENT
DTSTART;TZID=Europe/Zurich:20231119T103000
DTEND;TZID=Europe/Zurich:20231119T150000
DTSTAMP:20260423T203717
CREATED:20231022T115123Z
LAST-MODIFIED:20231106T200735Z
UID:3803-1700389800-1700406000@vebis.ch
SUMMARY:Volleyball Tournier x VCS
DESCRIPTION:
URL:https://vebis.ch/event/volleyball-tournier-x-vcs/
CATEGORIES:Event
END:VEVENT
BEGIN:VEVENT
DTSTART;TZID=Europe/Zurich:20231124T180000
DTEND;TZID=Europe/Zurich:20231124T220000
DTSTAMP:20260423T203717
CREATED:20231022T115212Z
LAST-MODIFIED:20231114T173416Z
UID:3805-1700848800-1700863200@vebis.ch
SUMMARY:Disco Night x APV x SMW
DESCRIPTION:Join us for the VeBiS\, SMW\, and APV Disco Night on November 24\, 2023\, at Lochness (HXE) starting at 18:00. It’s a blast from the past with a 70s\, 80s\, and 90s theme. Dust off those retro outfits and get ready to groove. The most creative costume wins a prize! It’ll be an unforgettable journey through the decades with retro tunes\, funky moves\, and a vibrant atmosphere. Don’t miss this chance to relive the golden eras of disco and pop culture. See you there! \n  \nSeid dabei bei der VeBiS\, SMW und APV Disco-Night am 24. November 2023 im Lochness (HXE)\, Start um 18:00 Uhr. Das Motto führt uns zurück in die 70er\, 80er und 90er Jahre. Holt eure Retro-Outfits heraus und macht euch bereit zum Feiern. Das kreativste Kostüm gewinnt einen tollen Preis! Es erwartet euch eine unvergessliche Reise durch die Jahrzehnte mit Retro-Musik\, coolen Moves und einer lebendigen Atmosphäre. Verpasst nicht die Gelegenheit\, die goldenen Zeiten der Disco und Popkultur wiederzuerleben. Wir sehen uns dort!
URL:https://vebis.ch/event/disco-night-x-apv/
CATEGORIES:Event
END:VEVENT
BEGIN:VEVENT
DTSTART;VALUE=DATE:20231127
DTEND;VALUE=DATE:20231128
DTSTAMP:20260423T203717
CREATED:20231022T115337Z
LAST-MODIFIED:20231022T115337Z
UID:3807-1701043200-1701129599@vebis.ch
SUMMARY:PhD Project Presentations
DESCRIPTION:
URL:https://vebis.ch/event/phd-project-presentations-2/
CATEGORIES:Event
END:VEVENT
BEGIN:VEVENT
DTSTART;VALUE=DATE:20231129
DTEND;VALUE=DATE:20231130
DTSTAMP:20260423T203717
CREATED:20231022T115421Z
LAST-MODIFIED:20231022T115421Z
UID:3809-1701216000-1701302399@vebis.ch
SUMMARY:Karaoke x GESO
DESCRIPTION:
URL:https://vebis.ch/event/karaoke-x-geso-2/
CATEGORIES:Event
END:VEVENT
END:VCALENDAR