BEGIN:VCALENDAR
VERSION:2.0
PRODID:-//VeBiS - ECPv6.15.14//NONSGML v1.0//EN
CALSCALE:GREGORIAN
METHOD:PUBLISH
X-ORIGINAL-URL:https://vebis.ch
X-WR-CALDESC:Veranstaltungen für VeBiS
REFRESH-INTERVAL;VALUE=DURATION:PT1H
X-Robots-Tag:noindex
X-PUBLISHED-TTL:PT1H
BEGIN:VTIMEZONE
TZID:Europe/Zurich
BEGIN:DAYLIGHT
TZOFFSETFROM:+0100
TZOFFSETTO:+0200
TZNAME:CEST
DTSTART:20230326T010000
END:DAYLIGHT
BEGIN:STANDARD
TZOFFSETFROM:+0200
TZOFFSETTO:+0100
TZNAME:CET
DTSTART:20231029T010000
END:STANDARD
BEGIN:DAYLIGHT
TZOFFSETFROM:+0100
TZOFFSETTO:+0200
TZNAME:CEST
DTSTART:20240331T010000
END:DAYLIGHT
BEGIN:STANDARD
TZOFFSETFROM:+0200
TZOFFSETTO:+0100
TZNAME:CET
DTSTART:20241027T010000
END:STANDARD
BEGIN:DAYLIGHT
TZOFFSETFROM:+0100
TZOFFSETTO:+0200
TZNAME:CEST
DTSTART:20250330T010000
END:DAYLIGHT
BEGIN:STANDARD
TZOFFSETFROM:+0200
TZOFFSETTO:+0100
TZNAME:CET
DTSTART:20251026T010000
END:STANDARD
END:VTIMEZONE
BEGIN:VEVENT
DTSTART;TZID=Europe/Zurich:20240221T183000
DTEND;TZID=Europe/Zurich:20240221T213000
DTSTAMP:20260423T164309
CREATED:20240222T164247Z
LAST-MODIFIED:20240222T164247Z
UID:4050-1708540200-1708551000@vebis.ch
SUMMARY:Spieleabend
DESCRIPTION:
URL:https://vebis.ch/event/spieleabend/
END:VEVENT
BEGIN:VEVENT
DTSTART;TZID=Europe/Zurich:20240228T181500
DTEND;TZID=Europe/Zurich:20240228T210000
DTSTAMP:20260423T164309
CREATED:20240221T161012Z
LAST-MODIFIED:20240221T161012Z
UID:4038-1709144100-1709154000@vebis.ch
SUMMARY:Mitgliederversammlung VeBiS FS24
DESCRIPTION:Vote your vote\, get your hoodie\, eat free Pizza! \nLiebes VeBiS-Mitglied\nAm Mittwoch\, den 28. Februar 2024\, steht unsere Mitgliederversammlung an. Du bist herzlich eingeladen\, um 18:15 Uhr zum HCI G7 zu kommen. Melde dich hier an: https://forms.gle/WwoJXDtPSwyGkwhv9\nFür Verpflegung haben wir gesorgt. Zusätzlich wirst du an der MV deinen bestellten Mitgliederhoodie abholen können!\nWir werden dir über unsere vergangenen und kommenden Aktivitäten erzählen und du wirst über wichtige Dinge abstimmen. Wir freuen uns auf dich!\n—\nDear VeBiS member\nOn Wednesday\, the 28th of February\, the next members meeting will take place. You are welcome to join us at HCI G7 at 18:15. Sign up here: https://forms.gle/WwoJXDtPSwyGkwhv9\nWe have taken care of food and beverages. Furthermore\, you will be able to pick up your member hoodie!\nWe will tell you about past and upcoming activities and you will get to vote on some important decisions. We look forward to seeing you!
URL:https://vebis.ch/event/mitgliederversammlung-vebis-fs24/
LOCATION:HCI G7
ORGANIZER;CN="VeBiS-Vorstand":MAILTO:info@vebis.ch
END:VEVENT
END:VCALENDAR