BEGIN:VCALENDAR
VERSION:2.0
PRODID:-//VeBiS - ECPv6.15.14//NONSGML v1.0//EN
CALSCALE:GREGORIAN
METHOD:PUBLISH
X-ORIGINAL-URL:https://vebis.ch
X-WR-CALDESC:Veranstaltungen für VeBiS
REFRESH-INTERVAL;VALUE=DURATION:PT1H
X-Robots-Tag:noindex
X-PUBLISHED-TTL:PT1H
BEGIN:VTIMEZONE
TZID:Europe/Zurich
BEGIN:DAYLIGHT
TZOFFSETFROM:+0100
TZOFFSETTO:+0200
TZNAME:CEST
DTSTART:20230326T010000
END:DAYLIGHT
BEGIN:STANDARD
TZOFFSETFROM:+0200
TZOFFSETTO:+0100
TZNAME:CET
DTSTART:20231029T010000
END:STANDARD
BEGIN:DAYLIGHT
TZOFFSETFROM:+0100
TZOFFSETTO:+0200
TZNAME:CEST
DTSTART:20240331T010000
END:DAYLIGHT
BEGIN:STANDARD
TZOFFSETFROM:+0200
TZOFFSETTO:+0100
TZNAME:CET
DTSTART:20241027T010000
END:STANDARD
BEGIN:DAYLIGHT
TZOFFSETFROM:+0100
TZOFFSETTO:+0200
TZNAME:CEST
DTSTART:20250330T010000
END:DAYLIGHT
BEGIN:STANDARD
TZOFFSETFROM:+0200
TZOFFSETTO:+0100
TZNAME:CET
DTSTART:20251026T010000
END:STANDARD
END:VTIMEZONE
BEGIN:VEVENT
DTSTART;TZID=Europe/Zurich:20240410T180000
DTEND;TZID=Europe/Zurich:20240410T230000
DTSTAMP:20260423T134804
CREATED:20240327T104616Z
LAST-MODIFIED:20240327T104616Z
UID:4369-1712772000-1712790000@vebis.ch
SUMMARY:BiUZ x VeBiS Bionding
DESCRIPTION:Am Mittwoch\, dem 10. April\, ab 18 Uhr\, findet im HXE unser BiUZxVeBiS Bionding Stamm statt. Wir erwarten Studierende aus beiden Fachvereinen\, kommt vorbei und unterhaltet euch mit einem guten Getränk über bio-tastische Themen rund um Studium und Alltag.\nBeim Bionding Stamm erwartet euch ein special drink\, den ihr mit oder ohne Alkohol geniessen könnt. Natürlich wird es auch andere Optionen geben\, stay tuned. \nSo\, save the date\, connect to a mate\, and pay 1 CHF less each 😉 \n********** \nOn Wednesday\, April 10th\, at 6 pm\, our BiUZxVeBiS Bionding Stamm will take place in HXE. We expect students from both associations\, come along and chat with a good drink about bio-tastic topics related to studying and everyday life.\nAt the Bionding Stamm you can expect a special drink to enjoy with or without alcohol. Of course\, other options will be available as well. \nSo\, save the date\, connect to a mate\, and pay 1 CHF less each 😉
URL:https://vebis.ch/event/biuz-x-vebis-bionding/
LOCATION:Lochness\, Hönggerberg
CATEGORIES:Event
END:VEVENT
BEGIN:VEVENT
DTSTART;TZID=Europe/Zurich:20240412T180000
DTEND;TZID=Europe/Zurich:20240413T020000
DTSTAMP:20260423T134804
CREATED:20240322T065718Z
LAST-MODIFIED:20240322T065718Z
UID:4348-1712944800-1712973600@vebis.ch
SUMMARY:TechNess
DESCRIPTION:Am Freitag\, dem 12. April\, findet um 18 Uhr die SMW x VeBiS x APV TechNess im HXE statt.\nKommt vorbei und genießt an der Bar eine Auswahl an ausgefallenen Cocktails zu erschwinglichen Studentenpreisen. Und wenn du auf elektronische Musik stehst\, kannst du auch einfach bleiben und mit uns die Nacht bis 2 Uhr morgens durchfeiern! \n************************** \nOn Friday\, April 12th\, at 6 pm\, the SMW x VeBiS x APV TechNess will take place in the HXE.\nCome by and enjoy a selection of fancy drinks at the bar with affordable student prices. And if you enjoy electronic music\, you might as well just stay and party with us through the night until 2 in the morning!
URL:https://vebis.ch/event/techness/
LOCATION:HXE
END:VEVENT
BEGIN:VEVENT
DTSTART;VALUE=DATE:20240418
DTEND;VALUE=DATE:20240419
DTSTAMP:20260423T134804
CREATED:20240331T174851Z
LAST-MODIFIED:20240417T093434Z
UID:4403-1713398400-1713484799@vebis.ch
SUMMARY:DoBier x Vial
DESCRIPTION:Am Donnerstag dem 18.04.2024 ab 17:00 sind wir im LFW Lichthof auf ein DoBier mit dem VIAL verabredet! Kommt doch auf ein zwei Bier oder andere Getränke vorbei und lasst den Abend ausklingen und lernt ein paar coole Leute aus dem VIAL kennen.\nKommt vorbei! \n***************************** \nOn Thursday 18.04.2024 from 17:00 we have an invite to a DoBier with the VIAL in the LFW Lichthof! Why don’t you come round for two beers or other drinks and round off the evening and get to know some cool people from the VIAL.\nCome along!
URL:https://vebis.ch/event/dobier-x-vial/
CATEGORIES:Event
END:VEVENT
BEGIN:VEVENT
DTSTART;TZID=Europe/Zurich:20240423T183000
DTEND;TZID=Europe/Zurich:20240423T230000
DTSTAMP:20260423T134804
CREATED:20240331T175118Z
LAST-MODIFIED:20240417T093229Z
UID:4405-1713897000-1713913200@vebis.ch
SUMMARY:Band Evening
DESCRIPTION:Get ready for an ecstatic night out with live music and drinks\, at this semester’s Band Evening\, brought to you by VeBiS\, VMP\, and VCS! Join our two bands for a harmonic blend of folk and funk with our first band People Being People\, and pop\, rock\, and punk from our second guest She’s from Canada! Either way\, get ready to dance and sing along to our talented student bands\, as well as a DJ. Whether you’re into high-energy beats or soulful melodies\, there’s something for everyone! Save the date: 23.04.24 at HXE B1 starting at 18:30 and let’s ignite the night together! \nPre-sale Tickets (5CHF) link coming after the spring break \nAbendkasse (7CHF)
URL:https://vebis.ch/event/band-evening/
LOCATION:HXE B1
END:VEVENT
BEGIN:VEVENT
DTSTART;TZID=Europe/Zurich:20240430T180000
DTEND;TZID=Europe/Zurich:20240430T220000
DTSTAMP:20260423T134804
CREATED:20240425T064538Z
LAST-MODIFIED:20240425T064538Z
UID:4538-1714500000-1714514400@vebis.ch
SUMMARY:BiUZ Game Night
DESCRIPTION:Am 30.04 ab 18:00 im VSUZH Stübli (Y10-F-24) findet der nächste Spieleabend statt! Dieses Mal mit dem BiUZ\, es gibt Getränke und Snacks und natürlich die Gelegenheit\, sich mit ganz vielen Bios auszutauschen. Kommt vorbei\, wir freuen uns auf euch! \n*************************************** \nOn 30.04 from 18:00 in the VSUZH Stübli (Y10-F-24) the next game night will take place! This time with BiUZ\, there will be drinks and snacks and of course the opportunity to chat with lots of Bios. Come along\, we look forward to seeing you!
URL:https://vebis.ch/event/biuz-game-night/
LOCATION:Campus Irchel
END:VEVENT
END:VCALENDAR