BEGIN:VCALENDAR
VERSION:2.0
PRODID:-//VeBiS - ECPv6.15.14//NONSGML v1.0//EN
CALSCALE:GREGORIAN
METHOD:PUBLISH
X-ORIGINAL-URL:https://vebis.ch
X-WR-CALDESC:Veranstaltungen für VeBiS
REFRESH-INTERVAL;VALUE=DURATION:PT1H
X-Robots-Tag:noindex
X-PUBLISHED-TTL:PT1H
BEGIN:VTIMEZONE
TZID:Europe/Zurich
BEGIN:DAYLIGHT
TZOFFSETFROM:+0100
TZOFFSETTO:+0200
TZNAME:CEST
DTSTART:20230326T010000
END:DAYLIGHT
BEGIN:STANDARD
TZOFFSETFROM:+0200
TZOFFSETTO:+0100
TZNAME:CET
DTSTART:20231029T010000
END:STANDARD
BEGIN:DAYLIGHT
TZOFFSETFROM:+0100
TZOFFSETTO:+0200
TZNAME:CEST
DTSTART:20240331T010000
END:DAYLIGHT
BEGIN:STANDARD
TZOFFSETFROM:+0200
TZOFFSETTO:+0100
TZNAME:CET
DTSTART:20241027T010000
END:STANDARD
BEGIN:DAYLIGHT
TZOFFSETFROM:+0100
TZOFFSETTO:+0200
TZNAME:CEST
DTSTART:20250330T010000
END:DAYLIGHT
BEGIN:STANDARD
TZOFFSETFROM:+0200
TZOFFSETTO:+0100
TZNAME:CET
DTSTART:20251026T010000
END:STANDARD
END:VTIMEZONE
BEGIN:VEVENT
DTSTART;TZID=Europe/Zurich:20241001T183000
DTEND;TZID=Europe/Zurich:20241001T210000
DTSTAMP:20260423T042824
CREATED:20240926T013223Z
LAST-MODIFIED:20240926T013235Z
UID:4796-1727807400-1727816400@vebis.ch
SUMMARY:VeBiS-Mitgliederversammlung
DESCRIPTION:Am 01.10. findet ab 18:30 im HIL E4 die Mitgliederversammlung statt\, dort kannst du über die neuen Vorstandsmitglieder wählen und über sonstige Vereinsgeschäfte abstimmen. Und danach kannst du gratis Sushi essen! \nAnmeldung unter: https://forms.gle/iKsWCmRFykncu1nz6
URL:https://vebis.ch/event/mitgliederversammlung-3/
LOCATION:HIL E4
ORGANIZER;CN="VeBiS-Vorstand":MAILTO:info@vebis.ch
END:VEVENT
BEGIN:VEVENT
DTSTART;TZID=Europe/Zurich:20241009T180000
DTEND;TZID=Europe/Zurich:20241009T220000
DTSTAMP:20260423T042824
CREATED:20240926T012728Z
LAST-MODIFIED:20241002T171139Z
UID:4802-1728496800-1728511200@vebis.ch
SUMMARY:Pub Quiz Stamm x APV
DESCRIPTION:Am Mittwoch\, dem 09. Oktober findet der erste Stamm dieses Semesters im Lochness statt. Natürlich wieder einmal mit dem APV. Komm vorbei und verbringe einen lustigen Abend mit uns und connecte dich mit den Studierenden des APVs. Zudem gibt es ein Pub Quiz mit tollen Preisen. \nLust dein Allgemeinwissen auf die Probe zu stellen? Dann komm am 09.10.2024 als 2er Team an den VeBiSxAPV PubQuiz-Stamm (startet um 18:30)!\nWir werden den Abend mit einem PubQuiz starten\, gefolgt von Barbetrieb im LochNess. \nWir freuen uns auf einen ausgelassenen Abend mit euch! \n____________________________________________ \nOn Wednesday\, October 9th\, the first Stamm of this semester will take place in Lochness.\, Of course\, once again with the APV. Come along and spend a fun evening with us and connect with the students of the APV. There will also be a pub quiz with great prizes. \nFancy putting your general knowledge to the test? Then come to the VeBiSxAPV PubQuiz on 09.10.2024 (starting at 6:30pm) as a team of 2!\nWe will start the evening with a PubQuiz\, followed by bar service in LochNess. \nWe look forward to a fun evening with you!
URL:https://vebis.ch/event/pub-quiz-stamm-x-apv/
LOCATION:Lochness\, Hönggerberg
END:VEVENT
BEGIN:VEVENT
DTSTART;TZID=Europe/Zurich:20241029T173000
DTEND;TZID=Europe/Zurich:20241029T213000
DTSTAMP:20260423T042824
CREATED:20241015T103537Z
LAST-MODIFIED:20241015T104752Z
UID:4834-1730223000-1730237400@vebis.ch
SUMMARY:Räbeliechtli Schnitzen
DESCRIPTION:Hallo zusammen 🙂\nIhr habt es vielleicht gemerkt\, der Herbst ist da und was wäre ein Herbst ohne Räbeliechtli schnitzen? Immernoch Herbst aber mit etwas weniger Licht…\nFür alle die sich jetzt fragen\, um was es hier geht. Räbeliechtli sind eine typische Schweizer Tradition\, bei der man seine Rebe (ein Gemüse in der Erde) aushöhlt\, mit kunstvollen Schnitzereien schmückt und danach mit einer kleinen Kerze zum leuchten bringt.\nHat dich das überzeugt? Dann komm doch am 29.10 zwischen 17:30 und 21:30 in den Foodmarket\, nimm deine Schnitzsachen mit (es reicht auch schon ein kleines Messer) und geniesse die Stimmung mit Glühgin und Punsch.\nAnmeldelink: https://docs.google.com/forms/d/1o6ZtgL12Mz10yZmrIkH91jnVpmlzshdypYW7Wl7zdfU/viewform?edit_requested=true\nPreis pro Räbe: 1.50 CHF \n____________________________________________ \nHi everyone :)\,\nAs you may have realised\, autumn is upon us; and what would autumn be without carving turnips? Still autumn\, yet less bright…\nFor those wondering\, what this is. Turnip carving is a swiss tradition in which turnips are hollowed out and carved with decorative patterns. Candles can be placed in them to illuminate the beautiful designs.\nAre you convinced? Then join us on the 29.10 between 17:30 and 21:30 in the Foodmarket\, bring carving utensils (such as a small knife) and enjoy some mulled-gin and punch.\nSing-up link: https://docs.google.com/forms/d/1o6ZtgL12Mz10yZmrIkH91jnVpmlzshdypYW7Wl7zdfU/viewform?edit_requested=true\nPrice per turnip: 1.50 CHF
URL:https://vebis.ch/event/raebeliechtli-schnitzen/
LOCATION:Foodmarket
CATEGORIES:Event
END:VEVENT
END:VCALENDAR