BEGIN:VCALENDAR
VERSION:2.0
PRODID:-//VeBiS - ECPv6.15.14//NONSGML v1.0//EN
CALSCALE:GREGORIAN
METHOD:PUBLISH
X-ORIGINAL-URL:https://vebis.ch
X-WR-CALDESC:Veranstaltungen für VeBiS
REFRESH-INTERVAL;VALUE=DURATION:PT1H
X-Robots-Tag:noindex
X-PUBLISHED-TTL:PT1H
BEGIN:VTIMEZONE
TZID:Europe/Zurich
BEGIN:DAYLIGHT
TZOFFSETFROM:+0100
TZOFFSETTO:+0200
TZNAME:CEST
DTSTART:20240331T010000
END:DAYLIGHT
BEGIN:STANDARD
TZOFFSETFROM:+0200
TZOFFSETTO:+0100
TZNAME:CET
DTSTART:20241027T010000
END:STANDARD
BEGIN:DAYLIGHT
TZOFFSETFROM:+0100
TZOFFSETTO:+0200
TZNAME:CEST
DTSTART:20250330T010000
END:DAYLIGHT
BEGIN:STANDARD
TZOFFSETFROM:+0200
TZOFFSETTO:+0100
TZNAME:CET
DTSTART:20251026T010000
END:STANDARD
BEGIN:DAYLIGHT
TZOFFSETFROM:+0100
TZOFFSETTO:+0200
TZNAME:CEST
DTSTART:20260329T010000
END:DAYLIGHT
BEGIN:STANDARD
TZOFFSETFROM:+0200
TZOFFSETTO:+0100
TZNAME:CET
DTSTART:20261025T010000
END:STANDARD
END:VTIMEZONE
BEGIN:VEVENT
DTSTART;TZID=Europe/Zurich:20250304T183000
DTEND;TZID=Europe/Zurich:20250304T210000
DTSTAMP:20260422T210850
CREATED:20250225T163606Z
LAST-MODIFIED:20250225T163752Z
UID:4965-1741113000-1741122000@vebis.ch
SUMMARY:Vebis MV
DESCRIPTION:🌿 Dear VeBiS member! 🌿\nOn Tuesday\, the 4th of March 2025\, the upcoming general assembly will take place. You are welcome to join us at HCI J6 at 18:30. Sign up here:\nhttps://forms.gle/TSEcJUFcQ6Zv9k9D7\nFood and beverages will be taken care of. We will tell you about past and upcoming events\, you will get to vote on some important decisions and you will be able to get to know the candidates for the new board\, before voting for them. We are looking forward to seeing you there! \n🌿 Liebes VeBiS-Mitglied! 🌿\nAm Dienstag\, den 4. März 2025\, steht unsere Mitgliederversammlung an. Du bist herzlich eingeladen\, um 18:30 Uhr zum HCI J6 zu kommen. Melde dich hier an:\nhttps://forms.gle/TSEcJUFcQ6Zv9k9D7\nFür Verpflegung haben wir gesorgt. Wir werden dir über unsere vergangenen und kommenden Aktivitäten erzählen\, du wirst über wichtige Dinge abstimmen können und die neuen Kandidat:innen kennenlernen\, bevor über sie abgestimmt wird. Wir freuen uns auf dich!
URL:https://vebis.ch/event/vebis-mv-2/
LOCATION:HCI J6\, Vladimir-Prelog-Weg\, Zürich\, Zürich\, 8093\, Switzerland
CATEGORIES:Event,MV
END:VEVENT
BEGIN:VEVENT
DTSTART;TZID=Europe/Zurich:20250312T170000
DTEND;TZID=Europe/Zurich:20250312T220000
DTSTAMP:20260422T210850
CREATED:20250225T163733Z
LAST-MODIFIED:20250225T163805Z
UID:4967-1741798800-1741816800@vebis.ch
SUMMARY:Vebis Game Night
DESCRIPTION:On 12.3. from 17:00 in the HXE C1 the next game night will take place! BiUZ is also invited! 🙂 there will be drinks and snacks and of course the opportunity to chat with lots of Bios. Come along\, we look forward to seeing you! \nAm 12.3. ab 17:00 im HXE C1 findet der nächste Spieleabend statt! BiUZ ist miteingeladen! 🙂 Es gibt Getränke und Snacks und natürlich die Gelegenheit\, sich mit ganz vielen Bios auszutauschen. Kommt vorbei\, wir freuen uns auf euch!
URL:https://vebis.ch/event/vebis-game-night/
LOCATION:HXE C1\, ETH hönggerberg\, Zürich\, 8093\, Switzerland
CATEGORIES:Event
END:VEVENT
BEGIN:VEVENT
DTSTART;TZID=Europe/Zurich:20250327T200000
DTEND;TZID=Europe/Zurich:20250328T020000
DTSTAMP:20260422T210850
CREATED:20250318T095700Z
LAST-MODIFIED:20250318T095700Z
UID:4987-1743105600-1743127200@vebis.ch
SUMMARY:Spring Break Party
DESCRIPTION:Keine Lust mehr auf den Winter? Willst auch du den Stress mit Spaß zurücklassen? Dann komm an die Spring Break Party verschiedenster Fachvereine der ETH und genieß den Frühlingsputz!\n_\nJedes gute Semester braucht eine gute Party. Mit diesem Ziel hat sich der APV\, SMW\, VCS\, Vebis und der VMP zusammengesetzt und die Spring Break Party ins Leben gerufen. Diese Party bietet euch eine gute Gelegenheit den Winter hinter euch und den Frühling willkommen zu heißen. Kommt am 27.03 um 20:00 ins CAB ETH und feiert euch für das Bestehen des Winters!\nWenn du mit dabei sein willst\, hol dir ein Ticket!\nhttps://eventfrog.ch/de/event/7303900707492483381/preview.html\nPs: Bringt eure Legi\, denn als ETH-Student ist es günstiger & Abendkasse gibt es auch allerdings sind die Tickets begrenzt vorhanden! \n  \nTired of winter? Do you want to leave the stress behind and have fun? Then come to the Spring Break Party organised by various ETH specialist clubs and enjoy some spring cleaning!\n_\nEvery good semester needs a good party. With this in mind\, the APV\, SMW\, VCS\, Vebis and the VMP have come together to organise the Spring Break Party. This party offers you a good opportunity to put winter behind you and welcome spring. Come to the CAB ETH on 27 March at 20:00 and celebrate the passing of winter!\nIf you want to be part of it\, get a ticket!\nhttps://eventfrog.ch/de/event/7303900707492483381/preview.html\nPs: Bring your Legi\, because as an ETH student it is cheaper & there is also a box office\, but tickets are limited! \nTranslated with DeepL.com (free version)
URL:https://vebis.ch/event/spring-break-party/
LOCATION:CAB
CATEGORIES:Event
END:VEVENT
END:VCALENDAR