BEGIN:VCALENDAR
VERSION:2.0
PRODID:-//VeBiS - ECPv6.15.14//NONSGML v1.0//EN
CALSCALE:GREGORIAN
METHOD:PUBLISH
X-ORIGINAL-URL:https://vebis.ch
X-WR-CALDESC:Veranstaltungen für VeBiS
REFRESH-INTERVAL;VALUE=DURATION:PT1H
X-Robots-Tag:noindex
X-PUBLISHED-TTL:PT1H
BEGIN:VTIMEZONE
TZID:Europe/Zurich
BEGIN:DAYLIGHT
TZOFFSETFROM:+0100
TZOFFSETTO:+0200
TZNAME:CEST
DTSTART:20240331T010000
END:DAYLIGHT
BEGIN:STANDARD
TZOFFSETFROM:+0200
TZOFFSETTO:+0100
TZNAME:CET
DTSTART:20241027T010000
END:STANDARD
BEGIN:DAYLIGHT
TZOFFSETFROM:+0100
TZOFFSETTO:+0200
TZNAME:CEST
DTSTART:20250330T010000
END:DAYLIGHT
BEGIN:STANDARD
TZOFFSETFROM:+0200
TZOFFSETTO:+0100
TZNAME:CET
DTSTART:20251026T010000
END:STANDARD
BEGIN:DAYLIGHT
TZOFFSETFROM:+0100
TZOFFSETTO:+0200
TZNAME:CEST
DTSTART:20260329T010000
END:DAYLIGHT
BEGIN:STANDARD
TZOFFSETFROM:+0200
TZOFFSETTO:+0100
TZNAME:CET
DTSTART:20261025T010000
END:STANDARD
END:VTIMEZONE
BEGIN:VEVENT
DTSTART;TZID=Europe/Zurich:20250508T183000
DTEND;TZID=Europe/Zurich:20250508T223000
DTSTAMP:20260422T181527
CREATED:20250420T170843Z
LAST-MODIFIED:20250420T170843Z
UID:5057-1746729000-1746743400@vebis.ch
SUMMARY:Band Evening
DESCRIPTION:Herzliche Einladung zum Band Abend 2.0\nAm Donnerstag 8.05.2025 im HXE veranstalten VeBiS\, AMIV\, VCS und VMP eine Feier inspiriert vom Band Abend letztes Jahr.\n\nÜber den Abend werden wir von 2 Bands und einem DJ Unterhalten.\nIhr könnt euch auf die Bands Masterchef und Type J Freuen!\n\nEs geht um 18.30 im HXE B1 los.\nWir freuen uns auf euch ! Tickets hier erhältlich.\n\nCordial invitation to the Band Evening 2.0\nOn Thursday 8.05.2025 in the HXE\, VeBiS\, AMIV\, VCS and VMP are organizing a celebration inspired by last year’s band evening.\n\n \n\nDuring the evening we will be entertained by 2 bands and a DJ.\nYou can look forward to the bands Masterchef and Type J!\n\n \n\nIt starts at 18.30 in the HXE B1.\nWe are looking forward to seeing you! Tickets available here. Translated with Deepl.
URL:https://vebis.ch/event/band-evening-2/
LOCATION:HXE B1
END:VEVENT
BEGIN:VEVENT
DTSTART;TZID=Europe/Zurich:20250519T163000
DTEND;TZID=Europe/Zurich:20250519T220000
DTSTAMP:20260422T181527
CREATED:20250516T203720Z
LAST-MODIFIED:20250516T203720Z
UID:5065-1747672200-1747692000@vebis.ch
SUMMARY:Rage Cage Tournament
DESCRIPTION:Bist du bereit\, deine Nerven aus Stahl und deine Becher-Zielgenauigkeit unter Beweis zu stellen? Hier geht es nicht nur um Geschwindigkeit\, sondern auch um Strategie\, Präzision und jede Menge Chaos. Egal\, ob du ein Rage-Cage-Profi bist oder zum ersten Mal hörst\, trink dich warm und lass die Becher fliegen. \nThink you’ve got nerves of steel and killer aim? Prove it in the Rage Cage! It’s not just about speed – it’s about strategy\, precision\, and total chaos. Whether you’re a Rage Cage veteran or a total newbie\, grab your squad\, drink up\, and let the cups fly!\nRegister here: https://docs.google.com/forms/d/e/1FAIpQLSdnNpx3cjKjm3ruZXxhHA612h_CicZLXAgR-yJgK-lzhwqjOw/viewform?usp=dialog
URL:https://vebis.ch/event/rage-cage-tournament/
CATEGORIES:Event
END:VEVENT
BEGIN:VEVENT
DTSTART;TZID=Europe/Zurich:20250521T060000
DTEND;TZID=Europe/Zurich:20250521T220000
DTSTAMP:20260422T181527
CREATED:20250516T204057Z
LAST-MODIFIED:20250516T204109Z
UID:5072-1747807200-1747864800@vebis.ch
SUMMARY:Boba Night
DESCRIPTION:Vergesst die langweiligen cocktails die ihr sonst trinkt und lasst euch von unseren ausgefallen Kreationen überraschen. Die fruchtigen Drinks mit den Bobaperlen versprechen einen einzigartigen Abend wie es ihn bisher an der ETH noch niemals gab. Perfekt um nach einem Semester voll monotoner Abläufe ein bisschen Abwechslung in den Studienalltag zu bringen. Wir freuen uns also darauf euch an der Bobanight am 21.5. im Loch Ness anzutreffen. Alle weiteren Infos findet ihr im Flyer.\n—————————-\nForget the boring cocktails you normally drink and be surprised by our special creations. The fruity drinks with boba pearls promise a unique evening like never seen before at ETH. The perfect way to add a little variety to your everyday study routine after a semester full of monotonous routines. We look forward to seeing you at the Bobanight on May 21 at Loch Ness. You can find all further information in the flyer.
URL:https://vebis.ch/event/boba-night/
CATEGORIES:Event
END:VEVENT
BEGIN:VEVENT
DTSTART;TZID=Europe/Zurich:20250528T160000
DTEND;TZID=Europe/Zurich:20250528T220000
DTSTAMP:20260422T181527
CREATED:20250526T160815Z
LAST-MODIFIED:20250526T160815Z
UID:5080-1748448000-1748469600@vebis.ch
SUMMARY:Vebis Grill Event
DESCRIPTION:Auch dieses Jahr werden der VeBiS und APV das Semester mit dem Abschlussgrillieren beenden. Kommt vorbei und genießt einen gemütlichen Sommerabend am Feuer. Bringt etwas zum Grillierem mit\, für Getränke ist gesorgt. \nZeit: 28. Mai\, 16:00 Uhr\nOrt: : https://maps.app.goo.gl/2m8hzrnNFdDn545r9 \n*********** \nThis year\, VeBiS and APV will once again conclude the semester with the “Abschlussgrillieren”. Come by and enjoy a cozy summer evening by the fire. Bring something to BBQ; drinks will be provided. \nTime: May 28th\, 4:00 PM\nLocation: https://maps.app.goo.gl/2m8hzrnNFdDn545r9
URL:https://vebis.ch/event/vebis-grill-event/
LOCATION:Grillstelle Hönggerberg
CATEGORIES:Event
END:VEVENT
END:VCALENDAR