BEGIN:VCALENDAR
VERSION:2.0
PRODID:-//VeBiS - ECPv6.15.14//NONSGML v1.0//EN
CALSCALE:GREGORIAN
METHOD:PUBLISH
X-ORIGINAL-URL:https://vebis.ch
X-WR-CALDESC:Veranstaltungen für VeBiS
REFRESH-INTERVAL;VALUE=DURATION:PT1H
X-Robots-Tag:noindex
X-PUBLISHED-TTL:PT1H
BEGIN:VTIMEZONE
TZID:Europe/Zurich
BEGIN:DAYLIGHT
TZOFFSETFROM:+0100
TZOFFSETTO:+0200
TZNAME:CEST
DTSTART:20240331T010000
END:DAYLIGHT
BEGIN:STANDARD
TZOFFSETFROM:+0200
TZOFFSETTO:+0100
TZNAME:CET
DTSTART:20241027T010000
END:STANDARD
BEGIN:DAYLIGHT
TZOFFSETFROM:+0100
TZOFFSETTO:+0200
TZNAME:CEST
DTSTART:20250330T010000
END:DAYLIGHT
BEGIN:STANDARD
TZOFFSETFROM:+0200
TZOFFSETTO:+0100
TZNAME:CET
DTSTART:20251026T010000
END:STANDARD
BEGIN:DAYLIGHT
TZOFFSETFROM:+0100
TZOFFSETTO:+0200
TZNAME:CEST
DTSTART:20260329T010000
END:DAYLIGHT
BEGIN:STANDARD
TZOFFSETFROM:+0200
TZOFFSETTO:+0100
TZNAME:CET
DTSTART:20261025T010000
END:STANDARD
END:VTIMEZONE
BEGIN:VEVENT
DTSTART;TZID=Europe/Zurich:20250923T183000
DTEND;TZID=Europe/Zurich:20250923T213000
DTSTAMP:20260422T121759
CREATED:20250916T095616Z
LAST-MODIFIED:20250916T095616Z
UID:5115-1758652200-1758663000@vebis.ch
SUMMARY:Vebis Mitgliederversammlung / Members Meeting
DESCRIPTION:Liebes VeBiS-Mitglied und liebe Freunde des VeBiS\,\n\nAm Dienstag\, den 23. September\, steht unsere Mitgliederversammlung an! Du bist ganz herzlich eingeladen\, um 18:30 ins HCI J6 zu kommen.\n\nMelde dich bitte hier an: https://forms.gle/bEuDSa3PFyzRmhrNA\nHier findest du die Traktanden und weitere spannende Dokumente: https://polybox01.ethz.ch/index.php/s/q8SGagH2c97bgHo\n\nFür Verpflegung haben wir gesorgt (es gibt Pizzaaaa 🍕). Wir werden dir über unsere vergangenen und kommenden Aktivitäten erzählen\, du wirst Kommissionen beitreten können\, und du wirst über wichtige Dinge abstimmen können\, wie zum Beispiel der neue Vorstand und wichtige Veränderungen unserer Statuten (ich weiss\, aufregend)! Vielleicht wird sogar das ein oder andere Spiel mit euch gespielt\, also hab ihr praktisch keine Wahl mehr und müsst einfach dabei sein… Wir freuen uns auf dich!\n\n\n—\nDear VeBiS member and good friends of VeBiS\,\n\nOn Tuesday\, the 23rd of September\, the next members meeting will take place! You are very welcome to join us at HCI J6 at 18:30\n\nPlease sign up here: https://forms.gle/bEuDSa3PFyzRmhrNA\nHere are the points of order and other relevant documents: https://polybox01.ethz.ch/index.php/s/q8SGagH2c97bgHo\n\nWe have taken care of food and beverages (I heard it’s going to be pizzaa 🍕). We will tell you about past and upcoming activities\, you can take a look at our different commissions and maybe even join one (or all )of them\, and you will get to vote on some very important decisions\, such as the new board and some important changes to the bylaws (I know\, exciting stuff)! We may or may not have a game prepared for you as well to make things more interesting so I guess you will have no choice but to come… We look forward to seeing you there!
URL:https://vebis.ch/event/vebis-mitgliederversammlung-members-meeting/
LOCATION:HCI J6\, Vladimir-Prelog-Weg\, Zürich\, Zürich\, 8093\, Switzerland
END:VEVENT
BEGIN:VEVENT
DTSTART;TZID=Europe/Zurich:20250924T170000
DTEND;TZID=Europe/Zurich:20250924T220000
DTSTAMP:20260422T121759
CREATED:20250919T123718Z
LAST-MODIFIED:20250919T123802Z
UID:5129-1758733200-1758751200@vebis.ch
SUMMARY:Göttiabend
DESCRIPTION:Göttiabend with Apéro\nAre you new to the Biology Bachelor’s or Master’s program at ETH? Or have you been around a bit longer and would like to help first-years settle in? Then join the Göttiabend organized by VeBiS on 24.09.2025 at 17:00 in HXE C1! \nThe evening brings together first-year students and more experienced ones (“Göttis”). Ersties can make their first connections and get answers to open questions\, while Göttis can share their experiences\, give tips\, and also meet other students from higher semesters.\nThere will also be an exchange where you can sell or give away used study materials (e.g. lab kits\, books\, etc.). \nAnd of course\, we will have a free apéro to enjoy while you connect! \n👉 Sign up via: https://forms.gle/uosxJ13jt4FKAhVN9 \nWe’re looking forward to seeing you!\nYour VeBiS Team <3 \nP.S. If you’d like to donate study materials but can’t make it to the event\, feel free to contact me directly at studentisches [at] vebis.ch 🙂 \n=============================================================== \nGöttiabend mit Apéro \nBist du neu im Bachelor- oder Masterstudiengang Biologie an der ETH? Oder bist du schon etwas länger dabei und möchtest den Erstsemestern helfen\, sich einzuleben? Dann komm zum Göttiabend\, der von VeBiS am 24.09.2025 um 17:00 Uhr in HXE C1 organisiert wird! \nDer Abend bringt Erstsemester und erfahrenere Studierende («Göttis») zusammen. Erstsemester können erste Kontakte knüpfen und Antworten auf offene Fragen erhalten\, während Göttis ihre Erfahrungen teilen\, Tipps geben und auch andere Studierende aus höheren Semestern kennenlernen können. \nAußerdem gibt es einen Tauschmarkt\, auf dem ihr gebrauchte Lernmaterialien (z. B. Laborkits\, Bücher usw.) verkaufen oder verschenken könnt. \nUnd natürlich gibt es einen kostenlosen Apéro\, den ihr genießen könnt\, während ihr Kontakte knüpft! \n👉 Meldet euch an unter: https://forms.gle/uosxJ13jt4FKAhVN9 \nWir freuen uns auf euch! \nEuer VeBiS-Team <3 \nP.S. Wenn ihr Studienmaterialien spenden möchtet\, aber nicht zur Veranstaltung kommen könnt\, könnt ihr euch gerne direkt an mich wenden unter studentisches [at] vebis.ch 🙂 \n  \nÜbersetzt mit DeepL.com (kostenlose Version)
URL:https://vebis.ch/event/goettiabend-2/
LOCATION:HXE C1\, ETH hönggerberg\, Zürich\, 8093\, Switzerland
CATEGORIES:Event
END:VEVENT
BEGIN:VEVENT
DTSTART;TZID=Europe/Zurich:20250930T173000
DTEND;TZID=Europe/Zurich:20250930T200000
DTSTAMP:20260422T121759
CREATED:20251017T135939Z
LAST-MODIFIED:20251017T140144Z
UID:5177-1759253400-1759262400@vebis.ch
SUMMARY:Pizza Plausch
DESCRIPTION:VeBiS Pizza Plausch – Tuesday\, 30.09.25 🍕 \nJoin us for the very first VeBiS Pizza Plausch! We’ll be baking pizzas with the ingredients you choose – all for just 4 CHF. \nGot a taste for something special? Feel free to bring your own fancy toppings for a custom creation! \n📍 Where: In front of HXE\n🕠 When: Starting at 17:30\n🥤 Drinks will be available for purchase. \nCome by\, bring your appetite\, and hang out with us – we’re looking forward to seeing you there! 😊 \n================================================ \nVeBiS Pizza Plausch – Dienstag\, 30.09.25 🍕 \nSeien Sie dabei beim ersten VeBiS Pizza Plausch! Wir backen Pizza mit den Zutaten Ihrer Wahl – und das für nur 4 CHF. \nHaben Sie Lust auf etwas Besonderes? Bringen Sie gerne Ihre eigenen Lieblingszutaten mit und kreieren Sie Ihre eigene Pizza! \n📍 Wo: Vor dem HXE \n🕠 Wann: Ab 17:30 Uhr \n🥤 Getränke können gekauft werden. \nKomm vorbei\, bring deinen Appetit mit und verbringe einen schönen Abend mit uns – wir freuen uns auf dich! 😊 \nÜbersetzt mit DeepL.com (kostenlose Version)
URL:https://vebis.ch/event/pizza-plausch/
LOCATION:HXE
CATEGORIES:Event
END:VEVENT
END:VCALENDAR