BEGIN:VCALENDAR
VERSION:2.0
PRODID:-//VeBiS - ECPv6.15.14//NONSGML v1.0//EN
CALSCALE:GREGORIAN
METHOD:PUBLISH
X-ORIGINAL-URL:https://vebis.ch
X-WR-CALDESC:Veranstaltungen für VeBiS
REFRESH-INTERVAL;VALUE=DURATION:PT1H
X-Robots-Tag:noindex
X-PUBLISHED-TTL:PT1H
BEGIN:VTIMEZONE
TZID:Europe/Zurich
BEGIN:DAYLIGHT
TZOFFSETFROM:+0100
TZOFFSETTO:+0200
TZNAME:CEST
DTSTART:20240331T010000
END:DAYLIGHT
BEGIN:STANDARD
TZOFFSETFROM:+0200
TZOFFSETTO:+0100
TZNAME:CET
DTSTART:20241027T010000
END:STANDARD
BEGIN:DAYLIGHT
TZOFFSETFROM:+0100
TZOFFSETTO:+0200
TZNAME:CEST
DTSTART:20250330T010000
END:DAYLIGHT
BEGIN:STANDARD
TZOFFSETFROM:+0200
TZOFFSETTO:+0100
TZNAME:CET
DTSTART:20251026T010000
END:STANDARD
BEGIN:DAYLIGHT
TZOFFSETFROM:+0100
TZOFFSETTO:+0200
TZNAME:CEST
DTSTART:20260329T010000
END:DAYLIGHT
BEGIN:STANDARD
TZOFFSETFROM:+0200
TZOFFSETTO:+0100
TZNAME:CET
DTSTART:20261025T010000
END:STANDARD
END:VTIMEZONE
BEGIN:VEVENT
DTSTART;TZID=Europe/Zurich:20251015T183000
DTEND;TZID=Europe/Zurich:20251015T200000
DTSTAMP:20260422T105854
CREATED:20251017T140559Z
LAST-MODIFIED:20251017T140559Z
UID:5179-1760553000-1760558400@vebis.ch
SUMMARY:BioTalks
DESCRIPTION:Have you ever wondered what it takes to start your own company or how to navigate the switch from academia to industry? Well\, we are launching a new event series called BioTalks\, which aims at helping you answer those questions. Industry leaders from life sciences\, biology and biotechnology companies will host interactive talks aimed at helping students understand necessary career choices and what to keep in mind whilst making them. \nIn our first BioTalks event\, Johannes Schilling\, Co-founder and Head of Technology at Athebio AG will speak about his experience founding the company and his life working in industry after completing his PhD. The event will be aimed at being interactive so there should be space to be able to ask questions (talk will be held in English). \nThe event will take place on the 15th of October and will start at 18:30 in HCI G3. The talk will go for about 45 minutes and will be followed by free pizza and Apero. \nSign up is here and it will be open until 13.10.2025: https://forms.gle/Bjr51UHEiQPMMXSq6 \n================================================ \n\nHaben Sie sich jemals gefragt\, was es braucht\, um ein eigenes Unternehmen zu gründen\, oder wie man den Wechsel von der Wissenschaft in die Industrie schafft? Nun\, wir starten eine neue Veranstaltungsreihe namens BioTalks\, die Ihnen helfen soll\, diese Fragen zu beantworten. Branchenführer aus den Bereichen Biowissenschaften\, Biologie und Biotechnologie werden interaktive Vorträge halten\, um Studierenden zu helfen\, die notwendigen Karriereentscheidungen zu verstehen und zu erfahren\, was sie dabei beachten sollten. \nBei unserer ersten BioTalks-Veranstaltung wird Johannes Schilling\, Mitbegründer und Leiter der Technologieabteilung bei Athebio AG\, über seine Erfahrungen bei der Gründung des Unternehmens und sein Leben in der Industrie nach Abschluss seiner PhD sprechen. Die Veranstaltung ist interaktiv gestaltet\, sodass Sie die Möglichkeit haben\, Fragen zu stellen (der Vortrag wird auf Englisch gehalten). \nDie Veranstaltung findet am 15. Oktober um 18:30 Uhr im HCI G3 statt. Der Vortrag dauert etwa 45 Minuten\, anschließend gibt es kostenlose Pizza und Aperitif. \nDie Anmeldung ist hier möglich und bis zum 13.10.2025 geöffnet: https://forms.gle/Bjr51UHEiQPMMXSq6 \nÜbersetzt mit Deepl.com (kostenlose Version)
URL:https://vebis.ch/event/biotalks/
LOCATION:HCI G3
CATEGORIES:Event
END:VEVENT
BEGIN:VEVENT
DTSTART;TZID=Europe/Zurich:20251024T210000
DTEND;TZID=Europe/Zurich:20251025T030000
DTSTAMP:20260422T105854
CREATED:20251021T083829Z
LAST-MODIFIED:20251021T084501Z
UID:5209-1761339600-1761361200@vebis.ch
SUMMARY:Grave Rave
DESCRIPTION:Zum Beginn der gruselzeit Veranstalten die Fachvereine SMW\, VMP\, VeBiS\, GESO und VCS im CAB. \nWir feiern von 21 Uhr bis 3 Uhr. \nSchmeißt euch in eure Gruseloutfitts und kommt Vorbei. \nhttps://eventfrog.ch/de/p/party/studentenparty/grave-rave-4-0-7375905746767076276.html \nWenn ihr keinen Eintritt zahlen wollt und uns beim veranstalten dieser Events unterstützt tragt euch in unsere Helferliste ein! \nhttps://forms.gle/Qw5twwmx5bRG1GXb8 \nhttps://docs.google.com/spreadsheets/d/1ptU9xuhqBpRYS5Pb_t8WaRDN77JxEEkU/edit?usp=sharing&ouid=107772344842926746959&rtpof=true&sd=true \nUnterhalten werden wir von mehreren DJs bsp. Lenny insta: lenny_necio\, dj_miam.m & panos \nZudem suchen wir noch  nach weiteren DJs für mehr Musik Variation. \nWenn ihr Interesse habt aufzulegen Meldet euch bei \njkeuning[at]ethz.ch \nEs wird auch Abendkasse geben aber der Vorverkauf ist Günstiger! \nWir freuen uns auf euch \n================================================ \nTo kick off the spooky season\, the student associations SMW\, VMP\, VeBiS\, GESO\, and VCS are hosting an event at CAB. \nWe’ll be celebrating from 9 p.m. to 3 a.m. \nPut on your spooky outfits and come on by. \nhttps://eventfrog.ch/de/p/party/studentenparty/grave-rave-4-0-7375905746767076276.html \nIf you don’t want to pay admission and would like to support us in organizing these events\, sign up for our volunteer list! \nhttps://forms.gle/Qw5twwmx5bRG1GXb8 \nhttps://docs.google.com/spreadsheets/d/1ptU9xuhqBpRYS5Pb_t8WaRDN77JxEEkU/edit?usp=sharing&ouid=107772344842926746959&rtpof=true&sd=true \nWe will be entertained by several DJs\, e.g. Lenny insta: lenny_necio\, dj_miam.m & panos. \nWe are also looking for more DJs to provide more musical variety. \nIf you are interested in DJing\, please contact \njkeuning[at]ethz.ch \nTickets will also be available at the door\, but advance sales are cheaper! \nWe look forward to seeing you there. \n  \nTranslated with DeepL.com (free version)
URL:https://vebis.ch/event/grave-rave/
LOCATION:CAB
CATEGORIES:Event
END:VEVENT
END:VCALENDAR