BEGIN:VCALENDAR
VERSION:2.0
PRODID:-//VeBiS - ECPv6.15.14//NONSGML v1.0//EN
CALSCALE:GREGORIAN
METHOD:PUBLISH
X-ORIGINAL-URL:https://vebis.ch
X-WR-CALDESC:Veranstaltungen für VeBiS
REFRESH-INTERVAL;VALUE=DURATION:PT1H
X-Robots-Tag:noindex
X-PUBLISHED-TTL:PT1H
BEGIN:VTIMEZONE
TZID:Europe/Zurich
BEGIN:DAYLIGHT
TZOFFSETFROM:+0100
TZOFFSETTO:+0200
TZNAME:CEST
DTSTART:20250330T010000
END:DAYLIGHT
BEGIN:STANDARD
TZOFFSETFROM:+0200
TZOFFSETTO:+0100
TZNAME:CET
DTSTART:20251026T010000
END:STANDARD
BEGIN:DAYLIGHT
TZOFFSETFROM:+0100
TZOFFSETTO:+0200
TZNAME:CEST
DTSTART:20260329T010000
END:DAYLIGHT
BEGIN:STANDARD
TZOFFSETFROM:+0200
TZOFFSETTO:+0100
TZNAME:CET
DTSTART:20261025T010000
END:STANDARD
BEGIN:DAYLIGHT
TZOFFSETFROM:+0100
TZOFFSETTO:+0200
TZNAME:CEST
DTSTART:20270328T010000
END:DAYLIGHT
BEGIN:STANDARD
TZOFFSETFROM:+0200
TZOFFSETTO:+0100
TZNAME:CET
DTSTART:20271031T010000
END:STANDARD
END:VTIMEZONE
BEGIN:VEVENT
DTSTART;TZID=Europe/Zurich:20260309T100000
DTEND;TZID=Europe/Zurich:20260309T183000
DTSTAMP:20260420T070102
CREATED:20260303T145207Z
LAST-MODIFIED:20260303T145207Z
UID:5445-1773050400-1773081000@vebis.ch
SUMMARY:Open Office Day
DESCRIPTION:On Monday the 9th March\, we‘d like to invite you to visit on our open office day! If you‘ve always wanted to have some more insight into what the board does\, or have ever been interested in being more active in VeBiS\, then this is your opportunity! \nOur doors (HXE B25) will be open from 10:00-18:30\, so you‘ll have lots of time to pop in whenever you want and chat with the board members. And if that is not enticing enough; there will also be pancakes („es hett solangs hett“) and beverages for free! \nWe hope to see lots of you there 🙂 \nPS: we’ll label the way to the office\, so everyone will find it 😉 \n============================= \nAm Montag\, dem 9. März\, möchten wir Sie herzlich zu unserem Tag der offenen Tür einladen! Wenn Sie schon immer einmal einen Einblick in die Arbeit des Vorstands gewinnen wollten oder sich dafür interessieren\, sich aktiver bei VeBiS zu engagieren\, dann ist dies Ihre Gelegenheit! \nUnsere Türen (HXE B25) sind von 10:00 bis 18:30 Uhr geöffnet\, sodass Sie jederzeit vorbeikommen und sich mit den Vorstandsmitgliedern unterhalten können. Und wenn das noch nicht verlockend genug ist: Es gibt auch kostenlos Pfannkuchen („es hett solangs hett“) und Getränke! \nWir hoffen\, viele von euch dort zu sehen 🙂 \nPS: Wir werden den Weg zum Büro ausschildern\, damit jeder ihn findet 😉 \n  \nÜbersetzt mit DeepL.com (kostenlose Version)
URL:https://vebis.ch/event/open-office-day/
LOCATION:HXE B25
CATEGORIES:Event
ORGANIZER;CN="VeBiS-Vorstand":MAILTO:info@vebis.ch
END:VEVENT
BEGIN:VEVENT
DTSTART;TZID=Europe/Zurich:20260326T180000
DTEND;TZID=Europe/Zurich:20260326T220000
DTSTAMP:20260420T070102
CREATED:20260312T205234Z
LAST-MODIFIED:20260316T083408Z
UID:5457-1774548000-1774562400@vebis.ch
SUMMARY:Textile Painting
DESCRIPTION:Ready to swap your pipettes for brushes🖌️? \nJoin VeBiS x APV for a night of creativity and color at our Textile Painting Event🎨! Whether you want to design a custom tote or give your favorite hoodie a glow-up\, we’ve got you covered. \nWhen: 26th of March | 18:00-22:00 \nWhere: HXE B2 \nPrice: 8.- \n💡Canvas: Bring your own textiles or paint a VeBiS tote bag (provided by us!) \nGet your spot now\, ditch your laptop for a few hours and let your creativity take over! \nhttps://docs.google.com/forms/d/e/1FAIpQLSfZMxJpvNYlY91OkrasReg_4Hh0bvcONXyt781djFtivPbJLg/viewform?usp=dialog \n============================= \nBist du bereit\, deine Pipetten gegen Pinsel einzutauschen🖌️? \nKomm zu unserem Textilmal-Event🎨 und erlebe gemeinsam mit VeBiS x APV einen Abend voller Kreativität und Farbe! Egal\, ob du eine individuelle Tote Bag gestalten oder deinem Lieblings-Hoodie einen neuen Look verpassen möchtest – bei uns bist du genau richtig. \nWann: 26. März | 18:00–22:00 Uhr \nWo: HXE B2 \nPreis: 8.- \n💡Leinwand: Bring deine eigenen Textilien mit oder bemale eine VeBiS Tote Bag (wird von uns gestellt!) \nSichert euch jetzt euren Platz\, legt den Laptop für ein paar Stunden beiseite und lasst eurer Kreativität freien Lauf! \nhttps://docs.google.com/forms/d/e/1FAIpQLSfZMxJpvNYlY91OkrasReg_4Hh0bvcONXyt781djFtivPbJLg/viewform?usp=dialog \n  \nÜbersetzt mit DeepL.com (kostenlose Version)
URL:https://vebis.ch/event/crafting-diy/
LOCATION:HXE B2\, Switzerland
CATEGORIES:Event
END:VEVENT
END:VCALENDAR